BEGIN:VCALENDAR
VERSION:2.0
PRODID:-//Gardens of Gethsemani - ECPv6.15.12.2//NONSGML v1.0//EN
CALSCALE:GREGORIAN
METHOD:PUBLISH
X-ORIGINAL-URL:https://rccav.org
X-WR-CALDESC:Events for Gardens of Gethsemani
REFRESH-INTERVAL;VALUE=DURATION:PT1H
X-Robots-Tag:noindex
X-PUBLISHED-TTL:PT1H
BEGIN:VTIMEZONE
TZID:America/Vancouver
BEGIN:DAYLIGHT
TZOFFSETFROM:-0800
TZOFFSETTO:-0700
TZNAME:PDT
DTSTART:20220313T100000
END:DAYLIGHT
BEGIN:STANDARD
TZOFFSETFROM:-0700
TZOFFSETTO:-0800
TZNAME:PST
DTSTART:20221106T090000
END:STANDARD
BEGIN:DAYLIGHT
TZOFFSETFROM:-0800
TZOFFSETTO:-0700
TZNAME:PDT
DTSTART:20230312T100000
END:DAYLIGHT
BEGIN:STANDARD
TZOFFSETFROM:-0700
TZOFFSETTO:-0800
TZNAME:PST
DTSTART:20231105T090000
END:STANDARD
BEGIN:DAYLIGHT
TZOFFSETFROM:-0800
TZOFFSETTO:-0700
TZNAME:PDT
DTSTART:20240310T100000
END:DAYLIGHT
BEGIN:STANDARD
TZOFFSETFROM:-0700
TZOFFSETTO:-0800
TZNAME:PST
DTSTART:20241103T090000
END:STANDARD
BEGIN:DAYLIGHT
TZOFFSETFROM:-0800
TZOFFSETTO:-0700
TZNAME:PDT
DTSTART:20250309T100000
END:DAYLIGHT
BEGIN:STANDARD
TZOFFSETFROM:-0700
TZOFFSETTO:-0800
TZNAME:PST
DTSTART:20251102T090000
END:STANDARD
BEGIN:DAYLIGHT
TZOFFSETFROM:-0800
TZOFFSETTO:-0700
TZNAME:PDT
DTSTART:20260308T100000
END:DAYLIGHT
BEGIN:STANDARD
TZOFFSETFROM:-0700
TZOFFSETTO:-0800
TZNAME:PST
DTSTART:20261101T090000
END:STANDARD
END:VTIMEZONE
BEGIN:VEVENT
DTSTART;TZID=America/Vancouver:20250621T103000
DTEND;TZID=America/Vancouver:20250621T120000
DTSTAMP:20260424T204133
CREATED:20250520T210210Z
LAST-MODIFIED:20250528T222620Z
UID:10001622-1750501800-1750507200@rccav.org
SUMMARY:Estate & Memorial Planning for Catholics Seminar: Canadian Martyrs Parish [CHINESE]
DESCRIPTION:Ensure your wishes are honoured and your loved ones are cared for with a well-prepared estate and memorial plan. This free\, expert-led seminar will guide you through essential topics such as: \n✅ Why every Catholic needs a Will – Protect your family and ensure your assets are distributed according to your values. \n✅ Choosing the right Executor – Select a trusted individual to carry out your final wishes. \n✅ Understanding Probate & Power of Attorney – Make informed decisions that simplify the legal process. \n✅ The tax benefits of charitable giving – Leave a lasting impact through faithful stewardship. \n✅ Preparing for Catholic funeral rites – Discover the beauty of a well-planned funeral and the benefits of pre-arrangements. \nExclusive Benefits for Attendees:\n🎁 Complimentary Estate & Memorial Planning Guide – A step-by-step resource to help you plan with confidence. \n🛠️ Access to online tools & practical resources – Ensure your estate and funeral plans align with your faith. \n📖 Guidance on Catholic funeral traditions – Learn how to honour your faith and ease the burden on your loved ones. \nThis event is hosted by the Roman Catholic Archdiocese of Vancouver in partnership with Gardens of Gethsemani Catholic Cemetery. \nSeats are limited. Register now for free to reserve your spot.\n透過完善的遺產與紀念規劃，確保您的意願得以實現，並讓家人獲得妥善照顧。這場免費研討會將由專家講解以下重點：  \n✅ 為何每位天主教徒都需立遺囑——保障家人，並確保您的資產根據您的價值觀分配。\n✅ 如何選擇合適的遺囑執行人——委託可信賴者來執行您的最後意願。\n✅ 認識遺產認證與授權書——做出能簡化法律程序的明智決策。 \n✅ 慈善捐贈的稅務優惠——藉慷慨捐贈，讓善行與恩澤永續流芳。 \n✅為天主教殯葬禮儀做準備——認識天主教殯葬禮儀之美及提前規劃的好處。  \n參加者專屬福利： \n🎁 免費《遺產與紀念規劃指南》–逐步指引您如何作出妥善規劃。\n🛠️實用線上工具資源 – 確保您的遺產與喪葬安排符合您的信仰信仰及價值觀。\n📖 天主教教殯葬禮儀傳統指導 – 學習如何恪守信仰禮規並減輕摯愛親人的負擔。  \n本次活動由溫哥華天主教總教區與天主教墓園Gardens of Gethsemani合辦。\n  \n名額有限，請立即報名預留席位。  \nClick here to register
URL:https://rccav.org/event/estate-memorial-planning-for-catholics-chinese/
LOCATION:Canadian Martyrs Parish\, 5771 Granville Ave\, Richmond\, British Columbia\, V7C 1E8\, Canada
ATTACH;FMTTYPE=image/jpeg:https://rccav.org/wp-content/uploads/2024/05/Estate-and-Memorial-Planning-Seminar.jpg
END:VEVENT
BEGIN:VEVENT
DTSTART;TZID=America/Vancouver:20230921T183000
DTEND;TZID=America/Vancouver:20230921T203000
DTSTAMP:20260424T204133
CREATED:20230823T163426Z
LAST-MODIFIED:20230823T173503Z
UID:10000540-1695321000-1695328200@rccav.org
SUMMARY:Advanced Planning Estate & Memorial Presentation
DESCRIPTION:Advanced Planning for Catholics\nThe Archdiocese has gathered local Catholic experts to share wisdom and practical advice on topics of advance care\, estate\, wills\, legacy\, and memorials. This is a unique opportunity to plan ahead so your family can have peace of mind. \nClick here for more information!
URL:https://rccav.org/event/advanced-planning-estate-memorial-presentation/
LOCATION:Canadian Martyrs Parish\, 5771 Granville Ave\, Richmond\, British Columbia\, V7C 1E8\, Canada
ATTACH;FMTTYPE=image/jpeg:https://rccav.org/wp-content/uploads/2022/02/pexels-shvets-production-7176302-scaled.jpg
END:VEVENT
END:VCALENDAR