BEGIN:VCALENDAR
VERSION:2.0
PRODID:-//Gardens of Gethsemani - ECPv6.15.12.2//NONSGML v1.0//EN
CALSCALE:GREGORIAN
METHOD:PUBLISH
X-ORIGINAL-URL:https://rccav.org
X-WR-CALDESC:Events for Gardens of Gethsemani
REFRESH-INTERVAL;VALUE=DURATION:PT1H
X-Robots-Tag:noindex
X-PUBLISHED-TTL:PT1H
BEGIN:VTIMEZONE
TZID:America/Vancouver
BEGIN:DAYLIGHT
TZOFFSETFROM:-0800
TZOFFSETTO:-0700
TZNAME:PDT
DTSTART:20250309T100000
END:DAYLIGHT
BEGIN:STANDARD
TZOFFSETFROM:-0700
TZOFFSETTO:-0800
TZNAME:PST
DTSTART:20251102T090000
END:STANDARD
BEGIN:DAYLIGHT
TZOFFSETFROM:-0800
TZOFFSETTO:-0700
TZNAME:PDT
DTSTART:20260308T100000
END:DAYLIGHT
BEGIN:STANDARD
TZOFFSETFROM:-0700
TZOFFSETTO:-0800
TZNAME:PST
DTSTART:20261101T090000
END:STANDARD
BEGIN:DAYLIGHT
TZOFFSETFROM:-0800
TZOFFSETTO:-0700
TZNAME:PDT
DTSTART:20270314T100000
END:DAYLIGHT
BEGIN:STANDARD
TZOFFSETFROM:-0700
TZOFFSETTO:-0800
TZNAME:PST
DTSTART:20271107T090000
END:STANDARD
BEGIN:DAYLIGHT
TZOFFSETFROM:-0800
TZOFFSETTO:-0700
TZNAME:PDT
DTSTART:20280312T100000
END:DAYLIGHT
BEGIN:STANDARD
TZOFFSETFROM:-0700
TZOFFSETTO:-0800
TZNAME:PST
DTSTART:20281105T090000
END:STANDARD
END:VTIMEZONE
BEGIN:VEVENT
DTSTART;TZID=America/Vancouver:20260726T143000
DTEND;TZID=America/Vancouver:20260726T153000
DTSTAMP:20260425T133033
CREATED:20250114T183151Z
LAST-MODIFIED:20260306T195400Z
UID:10001306-1785076200-1785079800@rccav.org
SUMMARY:2:30 p.m. Monthly Memorial Mass
DESCRIPTION:Join our 2:30 p.m. Monthly Memorial Mass\, offered for those who have been buried at Gardens of Gethsemani and St. Peter’s Catholic Cemeteries during this month. This is an opportunity to unite in prayer and remembrance\, remembering that the Eucharist will bring us closer to the promise of eternal life and strengthens our hope in the resurrection.
URL:https://rccav.org/event/230-pm-memorial-mass-2-3/2026-07-26/
LOCATION:Evangelist Chapel at Gardens of Gethsemani\, 15694 32 Ave\, Surrey\, British Columbia\, V3Z 9V1\, Canada
ATTACH;FMTTYPE=image/jpeg:https://rccav.org/wp-content/uploads/2025/01/Gethsemani-0405-40-scaled.jpg
END:VEVENT
BEGIN:VEVENT
DTSTART;TZID=America/Vancouver:20260807T153000
DTEND;TZID=America/Vancouver:20260807T170000
DTSTAMP:20260425T133033
CREATED:20250603T180456Z
LAST-MODIFIED:20260306T194023Z
UID:10001843-1786116600-1786122000@rccav.org
SUMMARY:Eucharistic Adoration
DESCRIPTION:We welcome you to join us on the first Friday of each month at the Evangelist Chapel to spend time with our Lord Jesus Christ in front of the Blessed Sacrament. \nAdoration will begin at 3:30PM followed by the Benediction at 4:30PM. \n 
URL:https://rccav.org/event/adoration/2026-08-07/
LOCATION:Evangelist Chapel at Gardens of Gethsemani\, 15694 32 Ave\, Surrey\, British Columbia\, V3Z 9V1\, Canada
ATTACH;FMTTYPE=image/webp:https://rccav.org/wp-content/uploads/2025/06/web3-eucharist-monstrance-church-man-praying-josh-applegate-cc0.webp
END:VEVENT
BEGIN:VEVENT
DTSTART;TZID=America/Vancouver:20260830T123000
DTEND;TZID=America/Vancouver:20260830T133000
DTSTAMP:20260425T133033
CREATED:20260309T185648Z
LAST-MODIFIED:20260310T202336Z
UID:10002075-1788093000-1788096600@rccav.org
SUMMARY:12:30 p.m. Monthly Memorial Mass
DESCRIPTION:Join our 12:30 p.m. Monthly Memorial Mass\, offered for those who have been buried at Gardens of Gethsemani and St. Peter’s Catholic Cemeteries this month. This is an opportunity to unite in prayer and remembrance\, remembering that the Eucharist will bring us closer to the promise of eternal life and strengthens our hope in the resurrection.
URL:https://rccav.org/event/1230-p-m-monthly-memorial-mass-2-2-3/2026-08-30/
LOCATION:Evangelist Chapel at Gardens of Gethsemani\, 15694 32 Ave\, Surrey\, British Columbia\, V3Z 9V1\, Canada
ATTACH;FMTTYPE=image/jpeg:https://rccav.org/wp-content/uploads/2025/01/Gethsemani-0405-40-scaled.jpg
END:VEVENT
BEGIN:VEVENT
DTSTART;TZID=America/Vancouver:20260830T143000
DTEND;TZID=America/Vancouver:20260830T153000
DTSTAMP:20260425T133033
CREATED:20250114T183151Z
LAST-MODIFIED:20260306T195400Z
UID:10001279-1788100200-1788103800@rccav.org
SUMMARY:2:30 p.m. Monthly Memorial Mass
DESCRIPTION:Join our 2:30 p.m. Monthly Memorial Mass\, offered for those who have been buried at Gardens of Gethsemani and St. Peter’s Catholic Cemeteries during this month. This is an opportunity to unite in prayer and remembrance\, remembering that the Eucharist will bring us closer to the promise of eternal life and strengthens our hope in the resurrection.
URL:https://rccav.org/event/230-pm-memorial-mass-2-3/2026-08-30/
LOCATION:Evangelist Chapel at Gardens of Gethsemani\, 15694 32 Ave\, Surrey\, British Columbia\, V3Z 9V1\, Canada
ATTACH;FMTTYPE=image/jpeg:https://rccav.org/wp-content/uploads/2025/01/Gethsemani-0405-40-scaled.jpg
END:VEVENT
BEGIN:VEVENT
DTSTART;TZID=America/Vancouver:20260904T153000
DTEND;TZID=America/Vancouver:20260904T170000
DTSTAMP:20260425T133033
CREATED:20250603T180456Z
LAST-MODIFIED:20260306T194023Z
UID:10001844-1788535800-1788541200@rccav.org
SUMMARY:Eucharistic Adoration
DESCRIPTION:We welcome you to join us on the first Friday of each month at the Evangelist Chapel to spend time with our Lord Jesus Christ in front of the Blessed Sacrament. \nAdoration will begin at 3:30PM followed by the Benediction at 4:30PM. \n 
URL:https://rccav.org/event/adoration/2026-09-04/
LOCATION:Evangelist Chapel at Gardens of Gethsemani\, 15694 32 Ave\, Surrey\, British Columbia\, V3Z 9V1\, Canada
ATTACH;FMTTYPE=image/webp:https://rccav.org/wp-content/uploads/2025/06/web3-eucharist-monstrance-church-man-praying-josh-applegate-cc0.webp
END:VEVENT
BEGIN:VEVENT
DTSTART;TZID=America/Vancouver:20260927T123000
DTEND;TZID=America/Vancouver:20260927T133000
DTSTAMP:20260425T133033
CREATED:20260309T185648Z
LAST-MODIFIED:20260310T202336Z
UID:10002097-1790512200-1790515800@rccav.org
SUMMARY:12:30 p.m. Monthly Memorial Mass
DESCRIPTION:Join our 12:30 p.m. Monthly Memorial Mass\, offered for those who have been buried at Gardens of Gethsemani and St. Peter’s Catholic Cemeteries this month. This is an opportunity to unite in prayer and remembrance\, remembering that the Eucharist will bring us closer to the promise of eternal life and strengthens our hope in the resurrection.
URL:https://rccav.org/event/1230-p-m-monthly-memorial-mass-2-2-3/2026-09-27/
LOCATION:Evangelist Chapel at Gardens of Gethsemani\, 15694 32 Ave\, Surrey\, British Columbia\, V3Z 9V1\, Canada
ATTACH;FMTTYPE=image/jpeg:https://rccav.org/wp-content/uploads/2025/01/Gethsemani-0405-40-scaled.jpg
END:VEVENT
BEGIN:VEVENT
DTSTART;TZID=America/Vancouver:20260927T143000
DTEND;TZID=America/Vancouver:20260927T153000
DTSTAMP:20260425T133033
CREATED:20250114T183151Z
LAST-MODIFIED:20260306T195400Z
UID:10001307-1790519400-1790523000@rccav.org
SUMMARY:2:30 p.m. Monthly Memorial Mass
DESCRIPTION:Join our 2:30 p.m. Monthly Memorial Mass\, offered for those who have been buried at Gardens of Gethsemani and St. Peter’s Catholic Cemeteries during this month. This is an opportunity to unite in prayer and remembrance\, remembering that the Eucharist will bring us closer to the promise of eternal life and strengthens our hope in the resurrection.
URL:https://rccav.org/event/230-pm-memorial-mass-2-3/2026-09-27/
LOCATION:Evangelist Chapel at Gardens of Gethsemani\, 15694 32 Ave\, Surrey\, British Columbia\, V3Z 9V1\, Canada
ATTACH;FMTTYPE=image/jpeg:https://rccav.org/wp-content/uploads/2025/01/Gethsemani-0405-40-scaled.jpg
END:VEVENT
BEGIN:VEVENT
DTSTART;TZID=America/Vancouver:20261002T153000
DTEND;TZID=America/Vancouver:20261002T170000
DTSTAMP:20260425T133033
CREATED:20250603T180456Z
LAST-MODIFIED:20260306T194023Z
UID:10001845-1790955000-1790960400@rccav.org
SUMMARY:Eucharistic Adoration
DESCRIPTION:We welcome you to join us on the first Friday of each month at the Evangelist Chapel to spend time with our Lord Jesus Christ in front of the Blessed Sacrament. \nAdoration will begin at 3:30PM followed by the Benediction at 4:30PM. \n 
URL:https://rccav.org/event/adoration/2026-10-02/
LOCATION:Evangelist Chapel at Gardens of Gethsemani\, 15694 32 Ave\, Surrey\, British Columbia\, V3Z 9V1\, Canada
ATTACH;FMTTYPE=image/webp:https://rccav.org/wp-content/uploads/2025/06/web3-eucharist-monstrance-church-man-praying-josh-applegate-cc0.webp
END:VEVENT
BEGIN:VEVENT
DTSTART;TZID=America/Vancouver:20261025T123000
DTEND;TZID=America/Vancouver:20261025T133000
DTSTAMP:20260425T133033
CREATED:20260309T185648Z
LAST-MODIFIED:20260310T202336Z
UID:10002098-1792931400-1792935000@rccav.org
SUMMARY:12:30 p.m. Monthly Memorial Mass
DESCRIPTION:Join our 12:30 p.m. Monthly Memorial Mass\, offered for those who have been buried at Gardens of Gethsemani and St. Peter’s Catholic Cemeteries this month. This is an opportunity to unite in prayer and remembrance\, remembering that the Eucharist will bring us closer to the promise of eternal life and strengthens our hope in the resurrection.
URL:https://rccav.org/event/1230-p-m-monthly-memorial-mass-2-2-3/2026-10-25/
LOCATION:Evangelist Chapel at Gardens of Gethsemani\, 15694 32 Ave\, Surrey\, British Columbia\, V3Z 9V1\, Canada
ATTACH;FMTTYPE=image/jpeg:https://rccav.org/wp-content/uploads/2025/01/Gethsemani-0405-40-scaled.jpg
END:VEVENT
BEGIN:VEVENT
DTSTART;TZID=America/Vancouver:20261025T143000
DTEND;TZID=America/Vancouver:20261025T153000
DTSTAMP:20260425T133033
CREATED:20250114T183151Z
LAST-MODIFIED:20260306T195400Z
UID:10001308-1792938600-1792942200@rccav.org
SUMMARY:2:30 p.m. Monthly Memorial Mass
DESCRIPTION:Join our 2:30 p.m. Monthly Memorial Mass\, offered for those who have been buried at Gardens of Gethsemani and St. Peter’s Catholic Cemeteries during this month. This is an opportunity to unite in prayer and remembrance\, remembering that the Eucharist will bring us closer to the promise of eternal life and strengthens our hope in the resurrection.
URL:https://rccav.org/event/230-pm-memorial-mass-2-3/2026-10-25/
LOCATION:Evangelist Chapel at Gardens of Gethsemani\, 15694 32 Ave\, Surrey\, British Columbia\, V3Z 9V1\, Canada
ATTACH;FMTTYPE=image/jpeg:https://rccav.org/wp-content/uploads/2025/01/Gethsemani-0405-40-scaled.jpg
END:VEVENT
BEGIN:VEVENT
DTSTART;TZID=America/Vancouver:20261106T153000
DTEND;TZID=America/Vancouver:20261106T170000
DTSTAMP:20260425T133033
CREATED:20250603T180456Z
LAST-MODIFIED:20260306T194023Z
UID:10001846-1793979000-1793984400@rccav.org
SUMMARY:Eucharistic Adoration
DESCRIPTION:We welcome you to join us on the first Friday of each month at the Evangelist Chapel to spend time with our Lord Jesus Christ in front of the Blessed Sacrament. \nAdoration will begin at 3:30PM followed by the Benediction at 4:30PM. \n 
URL:https://rccav.org/event/adoration/2026-11-06/
LOCATION:Evangelist Chapel at Gardens of Gethsemani\, 15694 32 Ave\, Surrey\, British Columbia\, V3Z 9V1\, Canada
ATTACH;FMTTYPE=image/webp:https://rccav.org/wp-content/uploads/2025/06/web3-eucharist-monstrance-church-man-praying-josh-applegate-cc0.webp
END:VEVENT
BEGIN:VEVENT
DTSTART;TZID=America/Vancouver:20261129T123000
DTEND;TZID=America/Vancouver:20261129T133000
DTSTAMP:20260425T133033
CREATED:20260309T185648Z
LAST-MODIFIED:20260310T202336Z
UID:10002076-1795955400-1795959000@rccav.org
SUMMARY:12:30 p.m. Monthly Memorial Mass
DESCRIPTION:Join our 12:30 p.m. Monthly Memorial Mass\, offered for those who have been buried at Gardens of Gethsemani and St. Peter’s Catholic Cemeteries this month. This is an opportunity to unite in prayer and remembrance\, remembering that the Eucharist will bring us closer to the promise of eternal life and strengthens our hope in the resurrection.
URL:https://rccav.org/event/1230-p-m-monthly-memorial-mass-2-2-3/2026-11-29/
LOCATION:Evangelist Chapel at Gardens of Gethsemani\, 15694 32 Ave\, Surrey\, British Columbia\, V3Z 9V1\, Canada
ATTACH;FMTTYPE=image/jpeg:https://rccav.org/wp-content/uploads/2025/01/Gethsemani-0405-40-scaled.jpg
END:VEVENT
BEGIN:VEVENT
DTSTART;TZID=America/Vancouver:20261129T143000
DTEND;TZID=America/Vancouver:20261129T153000
DTSTAMP:20260425T133033
CREATED:20250114T183151Z
LAST-MODIFIED:20260306T195400Z
UID:10001280-1795962600-1795966200@rccav.org
SUMMARY:2:30 p.m. Monthly Memorial Mass
DESCRIPTION:Join our 2:30 p.m. Monthly Memorial Mass\, offered for those who have been buried at Gardens of Gethsemani and St. Peter’s Catholic Cemeteries during this month. This is an opportunity to unite in prayer and remembrance\, remembering that the Eucharist will bring us closer to the promise of eternal life and strengthens our hope in the resurrection.
URL:https://rccav.org/event/230-pm-memorial-mass-2-3/2026-11-29/
LOCATION:Evangelist Chapel at Gardens of Gethsemani\, 15694 32 Ave\, Surrey\, British Columbia\, V3Z 9V1\, Canada
ATTACH;FMTTYPE=image/jpeg:https://rccav.org/wp-content/uploads/2025/01/Gethsemani-0405-40-scaled.jpg
END:VEVENT
BEGIN:VEVENT
DTSTART;TZID=America/Vancouver:20261204T153000
DTEND;TZID=America/Vancouver:20261204T170000
DTSTAMP:20260425T133033
CREATED:20250603T180456Z
LAST-MODIFIED:20260306T194023Z
UID:10001847-1796398200-1796403600@rccav.org
SUMMARY:Eucharistic Adoration
DESCRIPTION:We welcome you to join us on the first Friday of each month at the Evangelist Chapel to spend time with our Lord Jesus Christ in front of the Blessed Sacrament. \nAdoration will begin at 3:30PM followed by the Benediction at 4:30PM. \n 
URL:https://rccav.org/event/adoration/2026-12-04/
LOCATION:Evangelist Chapel at Gardens of Gethsemani\, 15694 32 Ave\, Surrey\, British Columbia\, V3Z 9V1\, Canada
ATTACH;FMTTYPE=image/webp:https://rccav.org/wp-content/uploads/2025/06/web3-eucharist-monstrance-church-man-praying-josh-applegate-cc0.webp
END:VEVENT
BEGIN:VEVENT
DTSTART;TZID=America/Vancouver:20261227T123000
DTEND;TZID=America/Vancouver:20261227T133000
DTSTAMP:20260425T133033
CREATED:20260309T185648Z
LAST-MODIFIED:20260310T202336Z
UID:10002099-1798374600-1798378200@rccav.org
SUMMARY:12:30 p.m. Monthly Memorial Mass
DESCRIPTION:Join our 12:30 p.m. Monthly Memorial Mass\, offered for those who have been buried at Gardens of Gethsemani and St. Peter’s Catholic Cemeteries this month. This is an opportunity to unite in prayer and remembrance\, remembering that the Eucharist will bring us closer to the promise of eternal life and strengthens our hope in the resurrection.
URL:https://rccav.org/event/1230-p-m-monthly-memorial-mass-2-2-3/2026-12-27/
LOCATION:Evangelist Chapel at Gardens of Gethsemani\, 15694 32 Ave\, Surrey\, British Columbia\, V3Z 9V1\, Canada
ATTACH;FMTTYPE=image/jpeg:https://rccav.org/wp-content/uploads/2025/01/Gethsemani-0405-40-scaled.jpg
END:VEVENT
BEGIN:VEVENT
DTSTART;TZID=America/Vancouver:20261227T143000
DTEND;TZID=America/Vancouver:20261227T153000
DTSTAMP:20260425T133033
CREATED:20250114T183151Z
LAST-MODIFIED:20260306T195400Z
UID:10001309-1798381800-1798385400@rccav.org
SUMMARY:2:30 p.m. Monthly Memorial Mass
DESCRIPTION:Join our 2:30 p.m. Monthly Memorial Mass\, offered for those who have been buried at Gardens of Gethsemani and St. Peter’s Catholic Cemeteries during this month. This is an opportunity to unite in prayer and remembrance\, remembering that the Eucharist will bring us closer to the promise of eternal life and strengthens our hope in the resurrection.
URL:https://rccav.org/event/230-pm-memorial-mass-2-3/2026-12-27/
LOCATION:Evangelist Chapel at Gardens of Gethsemani\, 15694 32 Ave\, Surrey\, British Columbia\, V3Z 9V1\, Canada
ATTACH;FMTTYPE=image/jpeg:https://rccav.org/wp-content/uploads/2025/01/Gethsemani-0405-40-scaled.jpg
END:VEVENT
BEGIN:VEVENT
DTSTART;TZID=America/Vancouver:20270101T153000
DTEND;TZID=America/Vancouver:20270101T170000
DTSTAMP:20260425T133033
CREATED:20250603T180456Z
LAST-MODIFIED:20260306T194023Z
UID:10001848-1798817400-1798822800@rccav.org
SUMMARY:Eucharistic Adoration
DESCRIPTION:We welcome you to join us on the first Friday of each month at the Evangelist Chapel to spend time with our Lord Jesus Christ in front of the Blessed Sacrament. \nAdoration will begin at 3:30PM followed by the Benediction at 4:30PM. \n 
URL:https://rccav.org/event/adoration/2027-01-01/
LOCATION:Evangelist Chapel at Gardens of Gethsemani\, 15694 32 Ave\, Surrey\, British Columbia\, V3Z 9V1\, Canada
ATTACH;FMTTYPE=image/webp:https://rccav.org/wp-content/uploads/2025/06/web3-eucharist-monstrance-church-man-praying-josh-applegate-cc0.webp
END:VEVENT
BEGIN:VEVENT
DTSTART;TZID=America/Vancouver:20270131T123000
DTEND;TZID=America/Vancouver:20270131T133000
DTSTAMP:20260425T133033
CREATED:20260309T185648Z
LAST-MODIFIED:20260310T202336Z
UID:10002077-1801398600-1801402200@rccav.org
SUMMARY:12:30 p.m. Monthly Memorial Mass
DESCRIPTION:Join our 12:30 p.m. Monthly Memorial Mass\, offered for those who have been buried at Gardens of Gethsemani and St. Peter’s Catholic Cemeteries this month. This is an opportunity to unite in prayer and remembrance\, remembering that the Eucharist will bring us closer to the promise of eternal life and strengthens our hope in the resurrection.
URL:https://rccav.org/event/1230-p-m-monthly-memorial-mass-2-2-3/2027-01-31/
LOCATION:Evangelist Chapel at Gardens of Gethsemani\, 15694 32 Ave\, Surrey\, British Columbia\, V3Z 9V1\, Canada
ATTACH;FMTTYPE=image/jpeg:https://rccav.org/wp-content/uploads/2025/01/Gethsemani-0405-40-scaled.jpg
END:VEVENT
BEGIN:VEVENT
DTSTART;TZID=America/Vancouver:20270131T143000
DTEND;TZID=America/Vancouver:20270131T153000
DTSTAMP:20260425T133033
CREATED:20250114T183151Z
LAST-MODIFIED:20260306T195400Z
UID:10001281-1801405800-1801409400@rccav.org
SUMMARY:2:30 p.m. Monthly Memorial Mass
DESCRIPTION:Join our 2:30 p.m. Monthly Memorial Mass\, offered for those who have been buried at Gardens of Gethsemani and St. Peter’s Catholic Cemeteries during this month. This is an opportunity to unite in prayer and remembrance\, remembering that the Eucharist will bring us closer to the promise of eternal life and strengthens our hope in the resurrection.
URL:https://rccav.org/event/230-pm-memorial-mass-2-3/2027-01-31/
LOCATION:Evangelist Chapel at Gardens of Gethsemani\, 15694 32 Ave\, Surrey\, British Columbia\, V3Z 9V1\, Canada
ATTACH;FMTTYPE=image/jpeg:https://rccav.org/wp-content/uploads/2025/01/Gethsemani-0405-40-scaled.jpg
END:VEVENT
BEGIN:VEVENT
DTSTART;TZID=America/Vancouver:20270205T153000
DTEND;TZID=America/Vancouver:20270205T170000
DTSTAMP:20260425T133033
CREATED:20250603T180456Z
LAST-MODIFIED:20260306T194023Z
UID:10001849-1801841400-1801846800@rccav.org
SUMMARY:Eucharistic Adoration
DESCRIPTION:We welcome you to join us on the first Friday of each month at the Evangelist Chapel to spend time with our Lord Jesus Christ in front of the Blessed Sacrament. \nAdoration will begin at 3:30PM followed by the Benediction at 4:30PM. \n 
URL:https://rccav.org/event/adoration/2027-02-05/
LOCATION:Evangelist Chapel at Gardens of Gethsemani\, 15694 32 Ave\, Surrey\, British Columbia\, V3Z 9V1\, Canada
ATTACH;FMTTYPE=image/webp:https://rccav.org/wp-content/uploads/2025/06/web3-eucharist-monstrance-church-man-praying-josh-applegate-cc0.webp
END:VEVENT
BEGIN:VEVENT
DTSTART;TZID=America/Vancouver:20270228T123000
DTEND;TZID=America/Vancouver:20270228T133000
DTSTAMP:20260425T133033
CREATED:20260309T185648Z
LAST-MODIFIED:20260310T202336Z
UID:10002100-1803817800-1803821400@rccav.org
SUMMARY:12:30 p.m. Monthly Memorial Mass
DESCRIPTION:Join our 12:30 p.m. Monthly Memorial Mass\, offered for those who have been buried at Gardens of Gethsemani and St. Peter’s Catholic Cemeteries this month. This is an opportunity to unite in prayer and remembrance\, remembering that the Eucharist will bring us closer to the promise of eternal life and strengthens our hope in the resurrection.
URL:https://rccav.org/event/1230-p-m-monthly-memorial-mass-2-2-3/2027-02-28/
LOCATION:Evangelist Chapel at Gardens of Gethsemani\, 15694 32 Ave\, Surrey\, British Columbia\, V3Z 9V1\, Canada
ATTACH;FMTTYPE=image/jpeg:https://rccav.org/wp-content/uploads/2025/01/Gethsemani-0405-40-scaled.jpg
END:VEVENT
BEGIN:VEVENT
DTSTART;TZID=America/Vancouver:20270228T143000
DTEND;TZID=America/Vancouver:20270228T153000
DTSTAMP:20260425T133033
CREATED:20250114T183151Z
LAST-MODIFIED:20260306T195400Z
UID:10001310-1803825000-1803828600@rccav.org
SUMMARY:2:30 p.m. Monthly Memorial Mass
DESCRIPTION:Join our 2:30 p.m. Monthly Memorial Mass\, offered for those who have been buried at Gardens of Gethsemani and St. Peter’s Catholic Cemeteries during this month. This is an opportunity to unite in prayer and remembrance\, remembering that the Eucharist will bring us closer to the promise of eternal life and strengthens our hope in the resurrection.
URL:https://rccav.org/event/230-pm-memorial-mass-2-3/2027-02-28/
LOCATION:Evangelist Chapel at Gardens of Gethsemani\, 15694 32 Ave\, Surrey\, British Columbia\, V3Z 9V1\, Canada
ATTACH;FMTTYPE=image/jpeg:https://rccav.org/wp-content/uploads/2025/01/Gethsemani-0405-40-scaled.jpg
END:VEVENT
BEGIN:VEVENT
DTSTART;TZID=America/Vancouver:20270305T153000
DTEND;TZID=America/Vancouver:20270305T170000
DTSTAMP:20260425T133033
CREATED:20250603T180456Z
LAST-MODIFIED:20260306T194023Z
UID:10001850-1804260600-1804266000@rccav.org
SUMMARY:Eucharistic Adoration
DESCRIPTION:We welcome you to join us on the first Friday of each month at the Evangelist Chapel to spend time with our Lord Jesus Christ in front of the Blessed Sacrament. \nAdoration will begin at 3:30PM followed by the Benediction at 4:30PM. \n 
URL:https://rccav.org/event/adoration/2027-03-05/
LOCATION:Evangelist Chapel at Gardens of Gethsemani\, 15694 32 Ave\, Surrey\, British Columbia\, V3Z 9V1\, Canada
ATTACH;FMTTYPE=image/webp:https://rccav.org/wp-content/uploads/2025/06/web3-eucharist-monstrance-church-man-praying-josh-applegate-cc0.webp
END:VEVENT
BEGIN:VEVENT
DTSTART;TZID=America/Vancouver:20270328T123000
DTEND;TZID=America/Vancouver:20270328T133000
DTSTAMP:20260425T133033
CREATED:20260309T185648Z
LAST-MODIFIED:20260310T202336Z
UID:10002101-1806237000-1806240600@rccav.org
SUMMARY:12:30 p.m. Monthly Memorial Mass
DESCRIPTION:Join our 12:30 p.m. Monthly Memorial Mass\, offered for those who have been buried at Gardens of Gethsemani and St. Peter’s Catholic Cemeteries this month. This is an opportunity to unite in prayer and remembrance\, remembering that the Eucharist will bring us closer to the promise of eternal life and strengthens our hope in the resurrection.
URL:https://rccav.org/event/1230-p-m-monthly-memorial-mass-2-2-3/2027-03-28/
LOCATION:Evangelist Chapel at Gardens of Gethsemani\, 15694 32 Ave\, Surrey\, British Columbia\, V3Z 9V1\, Canada
ATTACH;FMTTYPE=image/jpeg:https://rccav.org/wp-content/uploads/2025/01/Gethsemani-0405-40-scaled.jpg
END:VEVENT
BEGIN:VEVENT
DTSTART;TZID=America/Vancouver:20270328T143000
DTEND;TZID=America/Vancouver:20270328T153000
DTSTAMP:20260425T133033
CREATED:20250114T183151Z
LAST-MODIFIED:20260306T195400Z
UID:10001311-1806244200-1806247800@rccav.org
SUMMARY:2:30 p.m. Monthly Memorial Mass
DESCRIPTION:Join our 2:30 p.m. Monthly Memorial Mass\, offered for those who have been buried at Gardens of Gethsemani and St. Peter’s Catholic Cemeteries during this month. This is an opportunity to unite in prayer and remembrance\, remembering that the Eucharist will bring us closer to the promise of eternal life and strengthens our hope in the resurrection.
URL:https://rccav.org/event/230-pm-memorial-mass-2-3/2027-03-28/
LOCATION:Evangelist Chapel at Gardens of Gethsemani\, 15694 32 Ave\, Surrey\, British Columbia\, V3Z 9V1\, Canada
ATTACH;FMTTYPE=image/jpeg:https://rccav.org/wp-content/uploads/2025/01/Gethsemani-0405-40-scaled.jpg
END:VEVENT
BEGIN:VEVENT
DTSTART;TZID=America/Vancouver:20270402T153000
DTEND;TZID=America/Vancouver:20270402T170000
DTSTAMP:20260425T133033
CREATED:20250603T180456Z
LAST-MODIFIED:20260306T194023Z
UID:10001851-1806679800-1806685200@rccav.org
SUMMARY:Eucharistic Adoration
DESCRIPTION:We welcome you to join us on the first Friday of each month at the Evangelist Chapel to spend time with our Lord Jesus Christ in front of the Blessed Sacrament. \nAdoration will begin at 3:30PM followed by the Benediction at 4:30PM. \n 
URL:https://rccav.org/event/adoration/2027-04-02/
LOCATION:Evangelist Chapel at Gardens of Gethsemani\, 15694 32 Ave\, Surrey\, British Columbia\, V3Z 9V1\, Canada
ATTACH;FMTTYPE=image/webp:https://rccav.org/wp-content/uploads/2025/06/web3-eucharist-monstrance-church-man-praying-josh-applegate-cc0.webp
END:VEVENT
BEGIN:VEVENT
DTSTART;TZID=America/Vancouver:20270425T123000
DTEND;TZID=America/Vancouver:20270425T133000
DTSTAMP:20260425T133033
CREATED:20260309T185648Z
LAST-MODIFIED:20260310T202336Z
UID:10002102-1808656200-1808659800@rccav.org
SUMMARY:12:30 p.m. Monthly Memorial Mass
DESCRIPTION:Join our 12:30 p.m. Monthly Memorial Mass\, offered for those who have been buried at Gardens of Gethsemani and St. Peter’s Catholic Cemeteries this month. This is an opportunity to unite in prayer and remembrance\, remembering that the Eucharist will bring us closer to the promise of eternal life and strengthens our hope in the resurrection.
URL:https://rccav.org/event/1230-p-m-monthly-memorial-mass-2-2-3/2027-04-25/
LOCATION:Evangelist Chapel at Gardens of Gethsemani\, 15694 32 Ave\, Surrey\, British Columbia\, V3Z 9V1\, Canada
ATTACH;FMTTYPE=image/jpeg:https://rccav.org/wp-content/uploads/2025/01/Gethsemani-0405-40-scaled.jpg
END:VEVENT
BEGIN:VEVENT
DTSTART;TZID=America/Vancouver:20270425T143000
DTEND;TZID=America/Vancouver:20270425T153000
DTSTAMP:20260425T133033
CREATED:20250114T183151Z
LAST-MODIFIED:20260306T195400Z
UID:10001312-1808663400-1808667000@rccav.org
SUMMARY:2:30 p.m. Monthly Memorial Mass
DESCRIPTION:Join our 2:30 p.m. Monthly Memorial Mass\, offered for those who have been buried at Gardens of Gethsemani and St. Peter’s Catholic Cemeteries during this month. This is an opportunity to unite in prayer and remembrance\, remembering that the Eucharist will bring us closer to the promise of eternal life and strengthens our hope in the resurrection.
URL:https://rccav.org/event/230-pm-memorial-mass-2-3/2027-04-25/
LOCATION:Evangelist Chapel at Gardens of Gethsemani\, 15694 32 Ave\, Surrey\, British Columbia\, V3Z 9V1\, Canada
ATTACH;FMTTYPE=image/jpeg:https://rccav.org/wp-content/uploads/2025/01/Gethsemani-0405-40-scaled.jpg
END:VEVENT
BEGIN:VEVENT
DTSTART;TZID=America/Vancouver:20270507T153000
DTEND;TZID=America/Vancouver:20270507T170000
DTSTAMP:20260425T133033
CREATED:20250603T180456Z
LAST-MODIFIED:20260306T194023Z
UID:10001852-1809703800-1809709200@rccav.org
SUMMARY:Eucharistic Adoration
DESCRIPTION:We welcome you to join us on the first Friday of each month at the Evangelist Chapel to spend time with our Lord Jesus Christ in front of the Blessed Sacrament. \nAdoration will begin at 3:30PM followed by the Benediction at 4:30PM. \n 
URL:https://rccav.org/event/adoration/2027-05-07/
LOCATION:Evangelist Chapel at Gardens of Gethsemani\, 15694 32 Ave\, Surrey\, British Columbia\, V3Z 9V1\, Canada
ATTACH;FMTTYPE=image/webp:https://rccav.org/wp-content/uploads/2025/06/web3-eucharist-monstrance-church-man-praying-josh-applegate-cc0.webp
END:VEVENT
BEGIN:VEVENT
DTSTART;TZID=America/Vancouver:20270530T123000
DTEND;TZID=America/Vancouver:20270530T133000
DTSTAMP:20260425T133033
CREATED:20260309T185648Z
LAST-MODIFIED:20260310T202336Z
UID:10002078-1811680200-1811683800@rccav.org
SUMMARY:12:30 p.m. Monthly Memorial Mass
DESCRIPTION:Join our 12:30 p.m. Monthly Memorial Mass\, offered for those who have been buried at Gardens of Gethsemani and St. Peter’s Catholic Cemeteries this month. This is an opportunity to unite in prayer and remembrance\, remembering that the Eucharist will bring us closer to the promise of eternal life and strengthens our hope in the resurrection.
URL:https://rccav.org/event/1230-p-m-monthly-memorial-mass-2-2-3/2027-05-30/
LOCATION:Evangelist Chapel at Gardens of Gethsemani\, 15694 32 Ave\, Surrey\, British Columbia\, V3Z 9V1\, Canada
ATTACH;FMTTYPE=image/jpeg:https://rccav.org/wp-content/uploads/2025/01/Gethsemani-0405-40-scaled.jpg
END:VEVENT
END:VCALENDAR