BEGIN:VCALENDAR
VERSION:2.0
PRODID:-//Gardens of Gethsemani - ECPv6.15.12.2//NONSGML v1.0//EN
CALSCALE:GREGORIAN
METHOD:PUBLISH
X-ORIGINAL-URL:https://rccav.org
X-WR-CALDESC:Events for Gardens of Gethsemani
REFRESH-INTERVAL;VALUE=DURATION:PT1H
X-Robots-Tag:noindex
X-PUBLISHED-TTL:PT1H
BEGIN:VTIMEZONE
TZID:America/Vancouver
BEGIN:DAYLIGHT
TZOFFSETFROM:-0800
TZOFFSETTO:-0700
TZNAME:PDT
DTSTART:20230312T100000
END:DAYLIGHT
BEGIN:STANDARD
TZOFFSETFROM:-0700
TZOFFSETTO:-0800
TZNAME:PST
DTSTART:20231105T090000
END:STANDARD
BEGIN:DAYLIGHT
TZOFFSETFROM:-0800
TZOFFSETTO:-0700
TZNAME:PDT
DTSTART:20240310T100000
END:DAYLIGHT
BEGIN:STANDARD
TZOFFSETFROM:-0700
TZOFFSETTO:-0800
TZNAME:PST
DTSTART:20241103T090000
END:STANDARD
BEGIN:DAYLIGHT
TZOFFSETFROM:-0800
TZOFFSETTO:-0700
TZNAME:PDT
DTSTART:20250309T100000
END:DAYLIGHT
BEGIN:STANDARD
TZOFFSETFROM:-0700
TZOFFSETTO:-0800
TZNAME:PST
DTSTART:20251102T090000
END:STANDARD
BEGIN:DAYLIGHT
TZOFFSETFROM:-0800
TZOFFSETTO:-0700
TZNAME:PDT
DTSTART:20260308T100000
END:DAYLIGHT
BEGIN:STANDARD
TZOFFSETFROM:-0700
TZOFFSETTO:-0800
TZNAME:PST
DTSTART:20261101T090000
END:STANDARD
END:VTIMEZONE
BEGIN:VEVENT
DTSTART;TZID=America/Vancouver:20251003T153000
DTEND;TZID=America/Vancouver:20251003T170000
DTSTAMP:20260425T132338
CREATED:20250603T180456Z
LAST-MODIFIED:20260306T194023Z
UID:10001835-1759505400-1759510800@rccav.org
SUMMARY:Eucharistic Adoration
DESCRIPTION:We welcome you to join us on the first Friday of each month at the Evangelist Chapel to spend time with our Lord Jesus Christ in front of the Blessed Sacrament. \nAdoration will begin at 3:30PM followed by the Benediction at 4:30PM. \n 
URL:https://rccav.org/event/adoration/2025-10-03/
LOCATION:Evangelist Chapel at Gardens of Gethsemani\, 15694 32 Ave\, Surrey\, British Columbia\, V3Z 9V1\, Canada
ATTACH;FMTTYPE=image/webp:https://rccav.org/wp-content/uploads/2025/06/web3-eucharist-monstrance-church-man-praying-josh-applegate-cc0.webp
END:VEVENT
BEGIN:VEVENT
DTSTART;TZID=America/Vancouver:20250928T143000
DTEND;TZID=America/Vancouver:20250928T153000
DTSTAMP:20260425T132338
CREATED:20250114T183151Z
LAST-MODIFIED:20260306T195400Z
UID:10001299-1759069800-1759073400@rccav.org
SUMMARY:2:30 p.m. Monthly Memorial Mass
DESCRIPTION:Join our 2:30 p.m. Monthly Memorial Mass\, offered for those who have been buried at Gardens of Gethsemani and St. Peter’s Catholic Cemeteries during this month. This is an opportunity to unite in prayer and remembrance\, remembering that the Eucharist will bring us closer to the promise of eternal life and strengthens our hope in the resurrection.
URL:https://rccav.org/event/230-pm-memorial-mass-2-3/2025-09-28/
LOCATION:Evangelist Chapel at Gardens of Gethsemani\, 15694 32 Ave\, Surrey\, British Columbia\, V3Z 9V1\, Canada
ATTACH;FMTTYPE=image/jpeg:https://rccav.org/wp-content/uploads/2025/01/Gethsemani-0405-40-scaled.jpg
END:VEVENT
BEGIN:VEVENT
DTSTART;TZID=America/Vancouver:20250928T123000
DTEND;TZID=America/Vancouver:20250928T133000
DTSTAMP:20260425T132338
CREATED:20231031T174653Z
LAST-MODIFIED:20260306T195404Z
UID:10000566-1759062600-1759066200@rccav.org
SUMMARY:12:30 p.m. Monthly Memorial Mass
DESCRIPTION:Join our 12:30 p.m. Monthly Memorial Mass\, offered for those who have been buried at Gardens of Gethsemani and St. Peter’s Catholic Cemeteries this month. This is an opportunity to unite in prayer and remembrance\, remembering that the Eucharist will bring us closer to the promise of eternal life and strengthens our hope in the resurrection.
URL:https://rccav.org/event/1230-p-m-monthly-memorial-mass-2-2/2025-09-28/
LOCATION:Evangelist Chapel at Gardens of Gethsemani\, 15694 32 Ave\, Surrey\, British Columbia\, V3Z 9V1\, Canada
ATTACH;FMTTYPE=image/jpeg:https://rccav.org/wp-content/uploads/2025/01/Gethsemani-0405-40-scaled.jpg
END:VEVENT
BEGIN:VEVENT
DTSTART;TZID=America/Vancouver:20250905T153000
DTEND;TZID=America/Vancouver:20250905T170000
DTSTAMP:20260425T132338
CREATED:20250603T180456Z
LAST-MODIFIED:20260306T194023Z
UID:10001834-1757086200-1757091600@rccav.org
SUMMARY:Eucharistic Adoration
DESCRIPTION:We welcome you to join us on the first Friday of each month at the Evangelist Chapel to spend time with our Lord Jesus Christ in front of the Blessed Sacrament. \nAdoration will begin at 3:30PM followed by the Benediction at 4:30PM. \n 
URL:https://rccav.org/event/adoration/2025-09-05/
LOCATION:Evangelist Chapel at Gardens of Gethsemani\, 15694 32 Ave\, Surrey\, British Columbia\, V3Z 9V1\, Canada
ATTACH;FMTTYPE=image/webp:https://rccav.org/wp-content/uploads/2025/06/web3-eucharist-monstrance-church-man-praying-josh-applegate-cc0.webp
END:VEVENT
BEGIN:VEVENT
DTSTART;TZID=America/Vancouver:20250831T143000
DTEND;TZID=America/Vancouver:20250831T153000
DTSTAMP:20260425T132338
CREATED:20250114T183151Z
LAST-MODIFIED:20260306T195400Z
UID:10001275-1756650600-1756654200@rccav.org
SUMMARY:2:30 p.m. Monthly Memorial Mass
DESCRIPTION:Join our 2:30 p.m. Monthly Memorial Mass\, offered for those who have been buried at Gardens of Gethsemani and St. Peter’s Catholic Cemeteries during this month. This is an opportunity to unite in prayer and remembrance\, remembering that the Eucharist will bring us closer to the promise of eternal life and strengthens our hope in the resurrection.
URL:https://rccav.org/event/230-pm-memorial-mass-2-3/2025-08-31/
LOCATION:Evangelist Chapel at Gardens of Gethsemani\, 15694 32 Ave\, Surrey\, British Columbia\, V3Z 9V1\, Canada
ATTACH;FMTTYPE=image/jpeg:https://rccav.org/wp-content/uploads/2025/01/Gethsemani-0405-40-scaled.jpg
END:VEVENT
BEGIN:VEVENT
DTSTART;TZID=America/Vancouver:20250824T123000
DTEND;TZID=America/Vancouver:20250824T133000
DTSTAMP:20260425T132338
CREATED:20231031T174653Z
LAST-MODIFIED:20260306T195404Z
UID:10002018-1756038600-1756042200@rccav.org
SUMMARY:12:30 p.m. Monthly Memorial Mass
DESCRIPTION:Join our 12:30 p.m. Monthly Memorial Mass\, offered for those who have been buried at Gardens of Gethsemani and St. Peter’s Catholic Cemeteries this month. This is an opportunity to unite in prayer and remembrance\, remembering that the Eucharist will bring us closer to the promise of eternal life and strengthens our hope in the resurrection.
URL:https://rccav.org/event/1230-p-m-monthly-memorial-mass-2-2/2025-08-24/
LOCATION:Evangelist Chapel at Gardens of Gethsemani\, 15694 32 Ave\, Surrey\, British Columbia\, V3Z 9V1\, Canada
ATTACH;FMTTYPE=image/jpeg:https://rccav.org/wp-content/uploads/2025/01/Gethsemani-0405-40-scaled.jpg
END:VEVENT
BEGIN:VEVENT
DTSTART;TZID=America/Vancouver:20250801T153000
DTEND;TZID=America/Vancouver:20250801T170000
DTSTAMP:20260425T132338
CREATED:20250603T180456Z
LAST-MODIFIED:20260306T194023Z
UID:10001625-1754062200-1754067600@rccav.org
SUMMARY:Eucharistic Adoration
DESCRIPTION:We welcome you to join us on the first Friday of each month at the Evangelist Chapel to spend time with our Lord Jesus Christ in front of the Blessed Sacrament. \nAdoration will begin at 3:30PM followed by the Benediction at 4:30PM. \n 
URL:https://rccav.org/event/adoration/2025-08-01/
LOCATION:Evangelist Chapel at Gardens of Gethsemani\, 15694 32 Ave\, Surrey\, British Columbia\, V3Z 9V1\, Canada
ATTACH;FMTTYPE=image/webp:https://rccav.org/wp-content/uploads/2025/06/web3-eucharist-monstrance-church-man-praying-josh-applegate-cc0.webp
END:VEVENT
BEGIN:VEVENT
DTSTART;TZID=America/Vancouver:20250727T143000
DTEND;TZID=America/Vancouver:20250727T153000
DTSTAMP:20260425T132338
CREATED:20250114T183151Z
LAST-MODIFIED:20260306T195400Z
UID:10001298-1753626600-1753630200@rccav.org
SUMMARY:2:30 p.m. Monthly Memorial Mass
DESCRIPTION:Join our 2:30 p.m. Monthly Memorial Mass\, offered for those who have been buried at Gardens of Gethsemani and St. Peter’s Catholic Cemeteries during this month. This is an opportunity to unite in prayer and remembrance\, remembering that the Eucharist will bring us closer to the promise of eternal life and strengthens our hope in the resurrection.
URL:https://rccav.org/event/230-pm-memorial-mass-2-3/2025-07-27/
LOCATION:Evangelist Chapel at Gardens of Gethsemani\, 15694 32 Ave\, Surrey\, British Columbia\, V3Z 9V1\, Canada
ATTACH;FMTTYPE=image/jpeg:https://rccav.org/wp-content/uploads/2025/01/Gethsemani-0405-40-scaled.jpg
END:VEVENT
BEGIN:VEVENT
DTSTART;TZID=America/Vancouver:20250727T123000
DTEND;TZID=America/Vancouver:20250727T133000
DTSTAMP:20260425T132338
CREATED:20231031T174653Z
LAST-MODIFIED:20260306T195404Z
UID:10002017-1753619400-1753623000@rccav.org
SUMMARY:12:30 p.m. Monthly Memorial Mass
DESCRIPTION:Join our 12:30 p.m. Monthly Memorial Mass\, offered for those who have been buried at Gardens of Gethsemani and St. Peter’s Catholic Cemeteries this month. This is an opportunity to unite in prayer and remembrance\, remembering that the Eucharist will bring us closer to the promise of eternal life and strengthens our hope in the resurrection.
URL:https://rccav.org/event/1230-p-m-monthly-memorial-mass-2-2/2025-07-27/
LOCATION:Evangelist Chapel at Gardens of Gethsemani\, 15694 32 Ave\, Surrey\, British Columbia\, V3Z 9V1\, Canada
ATTACH;FMTTYPE=image/jpeg:https://rccav.org/wp-content/uploads/2025/01/Gethsemani-0405-40-scaled.jpg
END:VEVENT
BEGIN:VEVENT
DTSTART;TZID=America/Vancouver:20250724T153000
DTEND;TZID=America/Vancouver:20250724T170000
DTSTAMP:20260425T132338
CREATED:20250604T175159Z
LAST-MODIFIED:20250714T231340Z
UID:10001628-1753371000-1753376400@rccav.org
SUMMARY:Staff Mass
DESCRIPTION:Join us as we celebrate our Staff Mass in community with Fr Mario Marin presiding. \nConfessions begin at 3:30PM \nMass begins at 4:00PM \nWe would be honored if you would be able to attend. See you then! \n 
URL:https://rccav.org/event/staff-mass/
LOCATION:Evangelist Chapel at Gardens of Gethsemani\, 15694 32 Ave\, Surrey\, British Columbia\, V3Z 9V1\, Canada
ATTACH;FMTTYPE=image/webp:https://rccav.org/wp-content/uploads/2024/10/Chapel.webp
END:VEVENT
BEGIN:VEVENT
DTSTART;TZID=America/Vancouver:20250719T100000
DTEND;TZID=America/Vancouver:20250719T113000
DTSTAMP:20260425T132338
CREATED:20250616T194528Z
LAST-MODIFIED:20250616T200322Z
UID:10001632-1752919200-1752924600@rccav.org
SUMMARY:Reverently Laying to Rest Service
DESCRIPTION:Reverently Laying to RestJuly 19\, 2025 | 10:00 AM \nGardens of Gethsemani offers Archdiocesan families a no-cost service to inter cremated remains in a communal crypt. This final resting place where the community prays for souls is part of the ministry’s works of mercy. \nFor information and registration\, please email awhite@rccav.org. \nSpace is limited\, and conditions apply. Arrangements\, including required paperwork\, for interring remains in the crypt must be completed by July 4\, 2025. \nDonations to the Works of Mercy fund are welcomed and appreciated. \n 
URL:https://rccav.org/event/reverently-laying-to-rest-service-2/
LOCATION:Evangelist Chapel at Gardens of Gethsemani\, 15694 32 Ave\, Surrey\, British Columbia\, V3Z 9V1\, Canada
ATTACH;FMTTYPE=image/jpeg:https://rccav.org/wp-content/uploads/2021/10/get-in-touch-scaled.jpg
END:VEVENT
BEGIN:VEVENT
DTSTART;TZID=America/Vancouver:20250704T153000
DTEND;TZID=America/Vancouver:20250704T170000
DTSTAMP:20260425T132338
CREATED:20250603T180456Z
LAST-MODIFIED:20260306T194023Z
UID:10001624-1751643000-1751648400@rccav.org
SUMMARY:Eucharistic Adoration
DESCRIPTION:We welcome you to join us on the first Friday of each month at the Evangelist Chapel to spend time with our Lord Jesus Christ in front of the Blessed Sacrament. \nAdoration will begin at 3:30PM followed by the Benediction at 4:30PM. \n 
URL:https://rccav.org/event/adoration/2025-07-04/
LOCATION:Evangelist Chapel at Gardens of Gethsemani\, 15694 32 Ave\, Surrey\, British Columbia\, V3Z 9V1\, Canada
ATTACH;FMTTYPE=image/webp:https://rccav.org/wp-content/uploads/2025/06/web3-eucharist-monstrance-church-man-praying-josh-applegate-cc0.webp
END:VEVENT
BEGIN:VEVENT
DTSTART;TZID=America/Vancouver:20250629T143000
DTEND;TZID=America/Vancouver:20250629T153000
DTSTAMP:20260425T132338
CREATED:20250114T183151Z
LAST-MODIFIED:20260306T195400Z
UID:10001274-1751207400-1751211000@rccav.org
SUMMARY:2:30 p.m. Monthly Memorial Mass
DESCRIPTION:Join our 2:30 p.m. Monthly Memorial Mass\, offered for those who have been buried at Gardens of Gethsemani and St. Peter’s Catholic Cemeteries during this month. This is an opportunity to unite in prayer and remembrance\, remembering that the Eucharist will bring us closer to the promise of eternal life and strengthens our hope in the resurrection.
URL:https://rccav.org/event/230-pm-memorial-mass-2-3/2025-06-29/
LOCATION:Evangelist Chapel at Gardens of Gethsemani\, 15694 32 Ave\, Surrey\, British Columbia\, V3Z 9V1\, Canada
ATTACH;FMTTYPE=image/jpeg:https://rccav.org/wp-content/uploads/2025/01/Gethsemani-0405-40-scaled.jpg
END:VEVENT
BEGIN:VEVENT
DTSTART;TZID=America/Vancouver:20250622T123000
DTEND;TZID=America/Vancouver:20250622T133000
DTSTAMP:20260425T132338
CREATED:20231031T174653Z
LAST-MODIFIED:20260306T195404Z
UID:10002016-1750595400-1750599000@rccav.org
SUMMARY:12:30 p.m. Monthly Memorial Mass
DESCRIPTION:Join our 12:30 p.m. Monthly Memorial Mass\, offered for those who have been buried at Gardens of Gethsemani and St. Peter’s Catholic Cemeteries this month. This is an opportunity to unite in prayer and remembrance\, remembering that the Eucharist will bring us closer to the promise of eternal life and strengthens our hope in the resurrection.
URL:https://rccav.org/event/1230-p-m-monthly-memorial-mass-2-2/2025-06-22/
LOCATION:Evangelist Chapel at Gardens of Gethsemani\, 15694 32 Ave\, Surrey\, British Columbia\, V3Z 9V1\, Canada
ATTACH;FMTTYPE=image/jpeg:https://rccav.org/wp-content/uploads/2025/01/Gethsemani-0405-40-scaled.jpg
END:VEVENT
BEGIN:VEVENT
DTSTART;TZID=America/Vancouver:20250615T123000
DTEND;TZID=America/Vancouver:20250615T133000
DTSTAMP:20260425T132338
CREATED:20250117T203045Z
LAST-MODIFIED:20250507T161319Z
UID:10001469-1749990600-1749994200@rccav.org
SUMMARY:Father's Day Mass
DESCRIPTION:Please join us as we pray for our fathers and grandfathers during the Holy Mass. \nPotted Begonias will be available to purchase after mass. $5.00 per pot\, while supplies last.
URL:https://rccav.org/event/fathers-day-mass-3/
LOCATION:Evangelist Chapel at Gardens of Gethsemani\, 15694 32 Ave\, Surrey\, British Columbia\, V3Z 9V1\, Canada
ATTACH;FMTTYPE=image/jpeg:https://rccav.org/wp-content/uploads/2024/05/fathers-day-mass-scaled-3.jpg
END:VEVENT
BEGIN:VEVENT
DTSTART;TZID=America/Vancouver:20250606T153000
DTEND;TZID=America/Vancouver:20250606T170000
DTSTAMP:20260425T132338
CREATED:20250603T180456Z
LAST-MODIFIED:20260306T194023Z
UID:10001623-1749223800-1749229200@rccav.org
SUMMARY:Eucharistic Adoration
DESCRIPTION:We welcome you to join us on the first Friday of each month at the Evangelist Chapel to spend time with our Lord Jesus Christ in front of the Blessed Sacrament. \nAdoration will begin at 3:30PM followed by the Benediction at 4:30PM. \n 
URL:https://rccav.org/event/adoration/2025-06-06/
LOCATION:Evangelist Chapel at Gardens of Gethsemani\, 15694 32 Ave\, Surrey\, British Columbia\, V3Z 9V1\, Canada
ATTACH;FMTTYPE=image/webp:https://rccav.org/wp-content/uploads/2025/06/web3-eucharist-monstrance-church-man-praying-josh-applegate-cc0.webp
END:VEVENT
BEGIN:VEVENT
DTSTART;TZID=America/Vancouver:20250525T143000
DTEND;TZID=America/Vancouver:20250525T153000
DTSTAMP:20260425T132338
CREATED:20250114T183151Z
LAST-MODIFIED:20260306T195400Z
UID:10001297-1748183400-1748187000@rccav.org
SUMMARY:2:30 p.m. Monthly Memorial Mass
DESCRIPTION:Join our 2:30 p.m. Monthly Memorial Mass\, offered for those who have been buried at Gardens of Gethsemani and St. Peter’s Catholic Cemeteries during this month. This is an opportunity to unite in prayer and remembrance\, remembering that the Eucharist will bring us closer to the promise of eternal life and strengthens our hope in the resurrection.
URL:https://rccav.org/event/230-pm-memorial-mass-2-3/2025-05-25/
LOCATION:Evangelist Chapel at Gardens of Gethsemani\, 15694 32 Ave\, Surrey\, British Columbia\, V3Z 9V1\, Canada
ATTACH;FMTTYPE=image/jpeg:https://rccav.org/wp-content/uploads/2025/01/Gethsemani-0405-40-scaled.jpg
END:VEVENT
BEGIN:VEVENT
DTSTART;TZID=America/Vancouver:20250525T123000
DTEND;TZID=America/Vancouver:20250525T133000
DTSTAMP:20260425T132338
CREATED:20231031T174653Z
LAST-MODIFIED:20260306T195404Z
UID:10002015-1748176200-1748179800@rccav.org
SUMMARY:12:30 p.m. Monthly Memorial Mass
DESCRIPTION:Join our 12:30 p.m. Monthly Memorial Mass\, offered for those who have been buried at Gardens of Gethsemani and St. Peter’s Catholic Cemeteries this month. This is an opportunity to unite in prayer and remembrance\, remembering that the Eucharist will bring us closer to the promise of eternal life and strengthens our hope in the resurrection.
URL:https://rccav.org/event/1230-p-m-monthly-memorial-mass-2-2/2025-05-25/
LOCATION:Evangelist Chapel at Gardens of Gethsemani\, 15694 32 Ave\, Surrey\, British Columbia\, V3Z 9V1\, Canada
ATTACH;FMTTYPE=image/jpeg:https://rccav.org/wp-content/uploads/2025/01/Gethsemani-0405-40-scaled.jpg
END:VEVENT
BEGIN:VEVENT
DTSTART;TZID=America/Vancouver:20250511T143000
DTEND;TZID=America/Vancouver:20250511T153000
DTSTAMP:20260425T132338
CREATED:20250117T203452Z
LAST-MODIFIED:20250417T204853Z
UID:10001468-1746973800-1746977400@rccav.org
SUMMARY:Mother's Day Mass
DESCRIPTION:Let’s celebrate together Mother’s Day with a special mass\, as we pray for our dear mothers and grandmothers\, whom we had the blessing to share our lives with and are now in the presence of the Lord. \n“The world changes from year to year\, our lives from day to day\, but the love and memory of you\, shall never pass away.” – Unknown \nPotted begonias will be available to purchase after mass\, $5.00 per pot\, while supplies last. \nSee you then!
URL:https://rccav.org/event/mothers-day-mass-3/
LOCATION:Evangelist Chapel at Gardens of Gethsemani\, 15694 32 Ave\, Surrey\, British Columbia\, V3Z 9V1\, Canada
ATTACH;FMTTYPE=image/jpeg:https://rccav.org/wp-content/uploads/2022/07/Gardens-of-Gethsemani-Garden-Grounds-1111-scaled.jpg
END:VEVENT
BEGIN:VEVENT
DTSTART;TZID=America/Vancouver:20250427T143000
DTEND;TZID=America/Vancouver:20250427T153000
DTSTAMP:20260425T132338
CREATED:20250114T183151Z
LAST-MODIFIED:20260306T195400Z
UID:10001296-1745764200-1745767800@rccav.org
SUMMARY:2:30 p.m. Monthly Memorial Mass
DESCRIPTION:Join our 2:30 p.m. Monthly Memorial Mass\, offered for those who have been buried at Gardens of Gethsemani and St. Peter’s Catholic Cemeteries during this month. This is an opportunity to unite in prayer and remembrance\, remembering that the Eucharist will bring us closer to the promise of eternal life and strengthens our hope in the resurrection.
URL:https://rccav.org/event/230-pm-memorial-mass-2-3/2025-04-27/
LOCATION:Evangelist Chapel at Gardens of Gethsemani\, 15694 32 Ave\, Surrey\, British Columbia\, V3Z 9V1\, Canada
ATTACH;FMTTYPE=image/jpeg:https://rccav.org/wp-content/uploads/2025/01/Gethsemani-0405-40-scaled.jpg
END:VEVENT
BEGIN:VEVENT
DTSTART;TZID=America/Vancouver:20250427T123000
DTEND;TZID=America/Vancouver:20250427T133000
DTSTAMP:20260425T132338
CREATED:20231031T174653Z
LAST-MODIFIED:20260306T195404Z
UID:10002014-1745757000-1745760600@rccav.org
SUMMARY:12:30 p.m. Monthly Memorial Mass
DESCRIPTION:Join our 12:30 p.m. Monthly Memorial Mass\, offered for those who have been buried at Gardens of Gethsemani and St. Peter’s Catholic Cemeteries this month. This is an opportunity to unite in prayer and remembrance\, remembering that the Eucharist will bring us closer to the promise of eternal life and strengthens our hope in the resurrection.
URL:https://rccav.org/event/1230-p-m-monthly-memorial-mass-2-2/2025-04-27/
LOCATION:Evangelist Chapel at Gardens of Gethsemani\, 15694 32 Ave\, Surrey\, British Columbia\, V3Z 9V1\, Canada
ATTACH;FMTTYPE=image/jpeg:https://rccav.org/wp-content/uploads/2025/01/Gethsemani-0405-40-scaled.jpg
END:VEVENT
BEGIN:VEVENT
DTSTART;TZID=America/Vancouver:20250330T143000
DTEND;TZID=America/Vancouver:20250330T153000
DTSTAMP:20260425T132338
CREATED:20250114T183151Z
LAST-MODIFIED:20260306T195400Z
UID:10000624-1743345000-1743348600@rccav.org
SUMMARY:2:30 p.m. Monthly Memorial Mass
DESCRIPTION:Join our 2:30 p.m. Monthly Memorial Mass\, offered for those who have been buried at Gardens of Gethsemani and St. Peter’s Catholic Cemeteries during this month. This is an opportunity to unite in prayer and remembrance\, remembering that the Eucharist will bring us closer to the promise of eternal life and strengthens our hope in the resurrection.
URL:https://rccav.org/event/230-pm-memorial-mass-2-3/2025-03-30/
LOCATION:Evangelist Chapel at Gardens of Gethsemani\, 15694 32 Ave\, Surrey\, British Columbia\, V3Z 9V1\, Canada
ATTACH;FMTTYPE=image/jpeg:https://rccav.org/wp-content/uploads/2025/01/Gethsemani-0405-40-scaled.jpg
END:VEVENT
BEGIN:VEVENT
DTSTART;TZID=America/Vancouver:20250323T123000
DTEND;TZID=America/Vancouver:20250323T133000
DTSTAMP:20260425T132338
CREATED:20231031T174653Z
LAST-MODIFIED:20260306T195404Z
UID:10002013-1742733000-1742736600@rccav.org
SUMMARY:12:30 p.m. Monthly Memorial Mass
DESCRIPTION:Join our 12:30 p.m. Monthly Memorial Mass\, offered for those who have been buried at Gardens of Gethsemani and St. Peter’s Catholic Cemeteries this month. This is an opportunity to unite in prayer and remembrance\, remembering that the Eucharist will bring us closer to the promise of eternal life and strengthens our hope in the resurrection.
URL:https://rccav.org/event/1230-p-m-monthly-memorial-mass-2-2/2025-03-23/
LOCATION:Evangelist Chapel at Gardens of Gethsemani\, 15694 32 Ave\, Surrey\, British Columbia\, V3Z 9V1\, Canada
ATTACH;FMTTYPE=image/jpeg:https://rccav.org/wp-content/uploads/2025/01/Gethsemani-0405-40-scaled.jpg
END:VEVENT
BEGIN:VEVENT
DTSTART;TZID=America/Vancouver:20250223T143000
DTEND;TZID=America/Vancouver:20250223T153000
DTSTAMP:20260425T132338
CREATED:20240103T142526Z
LAST-MODIFIED:20240103T142913Z
UID:10000623-1740321000-1740324600@rccav.org
SUMMARY:2:30 p.m. Monthly Memorial Mass
DESCRIPTION:Join our 2:30 p.m. Monthly Memorial Mass offered for those who have been buried at Gardens of Gethsemani and St. Peter’s Catholic Cemeteries during this month.
URL:https://rccav.org/event/230-pm-memorial-mass/2025-02-23/
LOCATION:Evangelist Chapel at Gardens of Gethsemani\, 15694 32 Ave\, Surrey\, British Columbia\, V3Z 9V1\, Canada
ATTACH;FMTTYPE=image/jpeg:https://rccav.org/wp-content/uploads/2021/12/memorial-mass-1536x960-1.jpg
END:VEVENT
BEGIN:VEVENT
DTSTART;TZID=America/Vancouver:20250223T123000
DTEND;TZID=America/Vancouver:20250223T133000
DTSTAMP:20260425T132338
CREATED:20231031T174653Z
LAST-MODIFIED:20260306T195404Z
UID:10002012-1740313800-1740317400@rccav.org
SUMMARY:12:30 p.m. Monthly Memorial Mass
DESCRIPTION:Join our 12:30 p.m. Monthly Memorial Mass\, offered for those who have been buried at Gardens of Gethsemani and St. Peter’s Catholic Cemeteries this month. This is an opportunity to unite in prayer and remembrance\, remembering that the Eucharist will bring us closer to the promise of eternal life and strengthens our hope in the resurrection.
URL:https://rccav.org/event/1230-p-m-monthly-memorial-mass-2-2/2025-02-23/
LOCATION:Evangelist Chapel at Gardens of Gethsemani\, 15694 32 Ave\, Surrey\, British Columbia\, V3Z 9V1\, Canada
ATTACH;FMTTYPE=image/jpeg:https://rccav.org/wp-content/uploads/2025/01/Gethsemani-0405-40-scaled.jpg
END:VEVENT
BEGIN:VEVENT
DTSTART;TZID=America/Vancouver:20250126T143000
DTEND;TZID=America/Vancouver:20250126T153000
DTSTAMP:20260425T132338
CREATED:20250116T202505Z
LAST-MODIFIED:20250117T203245Z
UID:10000622-1737901800-1737905400@rccav.org
SUMMARY:2:30 p.m. Monthly Memorial Mass
DESCRIPTION:Join our 2:30 p.m. Monthly Memorial Mass offered for those who have been buried at Gardens of Gethsemani and St. Peter’s Catholic Cemeteries during this month.
URL:https://rccav.org/event/230-pm-memorial-mass-3/
LOCATION:Evangelist Chapel at Gardens of Gethsemani\, 15694 32 Ave\, Surrey\, British Columbia\, V3Z 9V1\, Canada
ATTACH;FMTTYPE=image/jpeg:https://rccav.org/wp-content/uploads/2021/12/memorial-mass-1536x960-1.jpg
END:VEVENT
BEGIN:VEVENT
DTSTART;TZID=America/Vancouver:20250126T123000
DTEND;TZID=America/Vancouver:20250126T133000
DTSTAMP:20260425T132338
CREATED:20231031T174653Z
LAST-MODIFIED:20260306T195404Z
UID:10002011-1737894600-1737898200@rccav.org
SUMMARY:12:30 p.m. Monthly Memorial Mass
DESCRIPTION:Join our 12:30 p.m. Monthly Memorial Mass\, offered for those who have been buried at Gardens of Gethsemani and St. Peter’s Catholic Cemeteries this month. This is an opportunity to unite in prayer and remembrance\, remembering that the Eucharist will bring us closer to the promise of eternal life and strengthens our hope in the resurrection.
URL:https://rccav.org/event/1230-p-m-monthly-memorial-mass-2-2/2025-01-26/
LOCATION:Evangelist Chapel at Gardens of Gethsemani\, 15694 32 Ave\, Surrey\, British Columbia\, V3Z 9V1\, Canada
ATTACH;FMTTYPE=image/jpeg:https://rccav.org/wp-content/uploads/2025/01/Gethsemani-0405-40-scaled.jpg
END:VEVENT
BEGIN:VEVENT
DTSTART;TZID=America/Vancouver:20241222T123000
DTEND;TZID=America/Vancouver:20241222T160000
DTSTAMP:20260425T132338
CREATED:20240216T142056Z
LAST-MODIFIED:20241202T171229Z
UID:10000557-1734870600-1734883200@rccav.org
SUMMARY:Monthly Memorial Mass 12:30pm & 2:30pm
DESCRIPTION:We offer this Mass for the repose of the souls of our loved ones buried at Gardens of Gethsemani and St. Peter’s Cemeteries. We invite you to arrive earlier to personalize an ornament for your loved one and place it on our Tree of Remembrance. There will be a musical interlude from 1:45pm – 2:15pm. Hot beverages and Christmas cookies will be served after each Mass. \nTo help us prepare for the event and have enough ornaments for all attendees\, we kindly ask you to register for this event here. \n12:30pm Memorial Mass \n1:30pm Hot beverages and Christmas Cookies \n1:45pm – 2:15pm Christmas Carols \n2:30pm Memorial Mass \n3:30pm Hot beverages and Christmas Cookies
URL:https://rccav.org/event/december-memorial-mass/
LOCATION:Evangelist Chapel at Gardens of Gethsemani\, 15694 32 Ave\, Surrey\, British Columbia\, V3Z 9V1\, Canada
ATTACH;FMTTYPE=image/jpeg:https://rccav.org/wp-content/uploads/2024/02/Christmas-tree-2020-1152x1536-1.jpg
END:VEVENT
BEGIN:VEVENT
DTSTART;TZID=America/Vancouver:20241222T123000
DTEND;TZID=America/Vancouver:20241222T133000
DTSTAMP:20260425T132338
CREATED:20231031T174653Z
LAST-MODIFIED:20260306T195404Z
UID:10002010-1734870600-1734874200@rccav.org
SUMMARY:12:30 p.m. Monthly Memorial Mass
DESCRIPTION:Join our 12:30 p.m. Monthly Memorial Mass\, offered for those who have been buried at Gardens of Gethsemani and St. Peter’s Catholic Cemeteries this month. This is an opportunity to unite in prayer and remembrance\, remembering that the Eucharist will bring us closer to the promise of eternal life and strengthens our hope in the resurrection.
URL:https://rccav.org/event/1230-p-m-monthly-memorial-mass-2-2/2024-12-22/
LOCATION:Evangelist Chapel at Gardens of Gethsemani\, 15694 32 Ave\, Surrey\, British Columbia\, V3Z 9V1\, Canada
ATTACH;FMTTYPE=image/jpeg:https://rccav.org/wp-content/uploads/2025/01/Gethsemani-0405-40-scaled.jpg
END:VEVENT
BEGIN:VEVENT
DTSTART;TZID=America/Vancouver:20241124T143000
DTEND;TZID=America/Vancouver:20241124T153000
DTSTAMP:20260425T132338
CREATED:20240103T142526Z
LAST-MODIFIED:20240103T142913Z
UID:10000620-1732458600-1732462200@rccav.org
SUMMARY:2:30 p.m. Monthly Memorial Mass
DESCRIPTION:Join our 2:30 p.m. Monthly Memorial Mass offered for those who have been buried at Gardens of Gethsemani and St. Peter’s Catholic Cemeteries during this month.
URL:https://rccav.org/event/230-pm-memorial-mass/2024-11-24/
LOCATION:Evangelist Chapel at Gardens of Gethsemani\, 15694 32 Ave\, Surrey\, British Columbia\, V3Z 9V1\, Canada
ATTACH;FMTTYPE=image/jpeg:https://rccav.org/wp-content/uploads/2021/12/memorial-mass-1536x960-1.jpg
END:VEVENT
END:VCALENDAR