BEGIN:VCALENDAR
VERSION:2.0
PRODID:-//Gardens of Gethsemani - ECPv6.15.12.2//NONSGML v1.0//EN
CALSCALE:GREGORIAN
METHOD:PUBLISH
X-WR-CALNAME:Gardens of Gethsemani
X-ORIGINAL-URL:https://rccav.org
X-WR-CALDESC:Events for Gardens of Gethsemani
REFRESH-INTERVAL;VALUE=DURATION:PT1H
X-Robots-Tag:noindex
X-PUBLISHED-TTL:PT1H
BEGIN:VTIMEZONE
TZID:America/Vancouver
BEGIN:DAYLIGHT
TZOFFSETFROM:-0800
TZOFFSETTO:-0700
TZNAME:PDT
DTSTART:20220313T100000
END:DAYLIGHT
BEGIN:STANDARD
TZOFFSETFROM:-0700
TZOFFSETTO:-0800
TZNAME:PST
DTSTART:20221106T090000
END:STANDARD
BEGIN:DAYLIGHT
TZOFFSETFROM:-0800
TZOFFSETTO:-0700
TZNAME:PDT
DTSTART:20230312T100000
END:DAYLIGHT
BEGIN:STANDARD
TZOFFSETFROM:-0700
TZOFFSETTO:-0800
TZNAME:PST
DTSTART:20231105T090000
END:STANDARD
BEGIN:DAYLIGHT
TZOFFSETFROM:-0800
TZOFFSETTO:-0700
TZNAME:PDT
DTSTART:20240310T100000
END:DAYLIGHT
BEGIN:STANDARD
TZOFFSETFROM:-0700
TZOFFSETTO:-0800
TZNAME:PST
DTSTART:20241103T090000
END:STANDARD
BEGIN:DAYLIGHT
TZOFFSETFROM:-0800
TZOFFSETTO:-0700
TZNAME:PDT
DTSTART:20250309T100000
END:DAYLIGHT
BEGIN:STANDARD
TZOFFSETFROM:-0700
TZOFFSETTO:-0800
TZNAME:PST
DTSTART:20251102T090000
END:STANDARD
END:VTIMEZONE
BEGIN:VEVENT
DTSTART;TZID=America/Vancouver:20241012T143000
DTEND;TZID=America/Vancouver:20241012T163000
DTSTAMP:20260425T192204
CREATED:20240826T182813Z
LAST-MODIFIED:20240923T215346Z
UID:10001142-1728743400-1728750600@rccav.org
SUMMARY:Pregnancy and Infant Loss Mass
DESCRIPTION:In collaboration with Catholic Cemeteries and Elizabeth Ministry\, a special Pregnancy and Infant Loss Mass will be held on Oct. 12th at 2:30pm at Gardens of Gethsemani Cemetery to honour the lives of infants and children who have died at any age. At this Mass\, families are invited to light a candle and also write the names of littles ones on slips of paper that will be collected and placed on the altar. \nLight refreshments will be available and a rosary walk to the Jesus and the Children Garden will take place for families to gather and pray with one another after Mass. Elizabeth Ministry volunteers will be at this Mass and reception to meet with bereaved families. \nElizabeth Ministry (EM) is an international movement rooted in the beliefs of the Catholic faith. In the archdiocese of Vancouver\, members focus on offering peer support to bereaved families grieving the loss of young children\, toddlers and infants of any age\, from conception onward. \nWe hope you will join us for the special occasion.
URL:https://rccav.org/event/pregnancy-and-infant-loss-mass-2/
LOCATION:Evangelist Chapel at Gardens of Gethsemani\, 15694 32 Ave\, Surrey\, British Columbia\, V3Z 9V1\, Canada
ATTACH;FMTTYPE=image/jpeg:https://rccav.org/wp-content/uploads/2022/11/pinwheel-banner.jpg
END:VEVENT
BEGIN:VEVENT
DTSTART;TZID=America/Vancouver:20240929T143000
DTEND;TZID=America/Vancouver:20240929T153000
DTSTAMP:20260425T192204
CREATED:20240216T142035Z
LAST-MODIFIED:20240814T203046Z
UID:10000618-1727620200-1727623800@rccav.org
SUMMARY:2:30 p.m. Monthly Memorial Mass
DESCRIPTION:Join our 2:30 p.m. Monthly Memorial Mass offered for those who have been buried at Gardens of Gethsemani and St. Peter’s Catholic Cemeteries during this month.
URL:https://rccav.org/event/230-p-m-monthly-memorial-mass-4/
LOCATION:Evangelist Chapel at Gardens of Gethsemani\, 15694 32 Ave\, Surrey\, British Columbia\, V3Z 9V1\, Canada
ATTACH;FMTTYPE=image/jpeg:https://rccav.org/wp-content/uploads/2021/12/memorial-mass-1536x960-1.jpg
END:VEVENT
BEGIN:VEVENT
DTSTART;TZID=America/Vancouver:20240929T123000
DTEND;TZID=America/Vancouver:20240929T133000
DTSTAMP:20260425T192204
CREATED:20240216T142030Z
LAST-MODIFIED:20240814T203050Z
UID:10000554-1727613000-1727616600@rccav.org
SUMMARY:12:30 p.m. Monthly Memorial Mass
DESCRIPTION:Join our 12:30 p.m. Monthly Memorial Mass offered for those who have been buried at Gardens of Gethsemani and St. Peter’s Catholic Cemeteries during this month.
URL:https://rccav.org/event/1230-p-m-monthly-memorial-mass-6/
LOCATION:Evangelist Chapel at Gardens of Gethsemani\, 15694 32 Ave\, Surrey\, British Columbia\, V3Z 9V1\, Canada
ATTACH;FMTTYPE=image/jpeg:https://rccav.org/wp-content/uploads/2021/12/memorial-mass-1536x960-1.jpg
END:VEVENT
BEGIN:VEVENT
DTSTART;TZID=America/Vancouver:20240922T123000
DTEND;TZID=America/Vancouver:20240922T133000
DTSTAMP:20260425T192204
CREATED:20231031T174653Z
LAST-MODIFIED:20260306T195404Z
UID:10002007-1727008200-1727011800@rccav.org
SUMMARY:12:30 p.m. Monthly Memorial Mass
DESCRIPTION:Join our 12:30 p.m. Monthly Memorial Mass\, offered for those who have been buried at Gardens of Gethsemani and St. Peter’s Catholic Cemeteries this month. This is an opportunity to unite in prayer and remembrance\, remembering that the Eucharist will bring us closer to the promise of eternal life and strengthens our hope in the resurrection.
URL:https://rccav.org/event/1230-p-m-monthly-memorial-mass-2-2/2024-09-22/
LOCATION:Evangelist Chapel at Gardens of Gethsemani\, 15694 32 Ave\, Surrey\, British Columbia\, V3Z 9V1\, Canada
ATTACH;FMTTYPE=image/jpeg:https://rccav.org/wp-content/uploads/2025/01/Gethsemani-0405-40-scaled.jpg
END:VEVENT
BEGIN:VEVENT
DTSTART;TZID=America/Vancouver:20240825T143000
DTEND;TZID=America/Vancouver:20240825T153000
DTSTAMP:20260425T192204
CREATED:20240103T142526Z
LAST-MODIFIED:20240103T142913Z
UID:10000617-1724596200-1724599800@rccav.org
SUMMARY:2:30 p.m. Monthly Memorial Mass
DESCRIPTION:Join our 2:30 p.m. Monthly Memorial Mass offered for those who have been buried at Gardens of Gethsemani and St. Peter’s Catholic Cemeteries during this month.
URL:https://rccav.org/event/230-pm-memorial-mass/2024-08-25/
LOCATION:Evangelist Chapel at Gardens of Gethsemani\, 15694 32 Ave\, Surrey\, British Columbia\, V3Z 9V1\, Canada
ATTACH;FMTTYPE=image/jpeg:https://rccav.org/wp-content/uploads/2021/12/memorial-mass-1536x960-1.jpg
END:VEVENT
BEGIN:VEVENT
DTSTART;TZID=America/Vancouver:20240825T123000
DTEND;TZID=America/Vancouver:20240825T133000
DTSTAMP:20260425T192204
CREATED:20231031T174653Z
LAST-MODIFIED:20260306T195404Z
UID:10002006-1724589000-1724592600@rccav.org
SUMMARY:12:30 p.m. Monthly Memorial Mass
DESCRIPTION:Join our 12:30 p.m. Monthly Memorial Mass\, offered for those who have been buried at Gardens of Gethsemani and St. Peter’s Catholic Cemeteries this month. This is an opportunity to unite in prayer and remembrance\, remembering that the Eucharist will bring us closer to the promise of eternal life and strengthens our hope in the resurrection.
URL:https://rccav.org/event/1230-p-m-monthly-memorial-mass-2-2/2024-08-25/
LOCATION:Evangelist Chapel at Gardens of Gethsemani\, 15694 32 Ave\, Surrey\, British Columbia\, V3Z 9V1\, Canada
ATTACH;FMTTYPE=image/jpeg:https://rccav.org/wp-content/uploads/2025/01/Gethsemani-0405-40-scaled.jpg
END:VEVENT
BEGIN:VEVENT
DTSTART;TZID=America/Vancouver:20240728T143000
DTEND;TZID=America/Vancouver:20240728T153000
DTSTAMP:20260425T192204
CREATED:20240103T142526Z
LAST-MODIFIED:20240103T142913Z
UID:10000616-1722177000-1722180600@rccav.org
SUMMARY:2:30 p.m. Monthly Memorial Mass
DESCRIPTION:Join our 2:30 p.m. Monthly Memorial Mass offered for those who have been buried at Gardens of Gethsemani and St. Peter’s Catholic Cemeteries during this month.
URL:https://rccav.org/event/230-pm-memorial-mass/2024-07-28/
LOCATION:Evangelist Chapel at Gardens of Gethsemani\, 15694 32 Ave\, Surrey\, British Columbia\, V3Z 9V1\, Canada
ATTACH;FMTTYPE=image/jpeg:https://rccav.org/wp-content/uploads/2021/12/memorial-mass-1536x960-1.jpg
END:VEVENT
BEGIN:VEVENT
DTSTART;TZID=America/Vancouver:20240728T123000
DTEND;TZID=America/Vancouver:20240728T133000
DTSTAMP:20260425T192204
CREATED:20231031T174653Z
LAST-MODIFIED:20260306T195404Z
UID:10000552-1722169800-1722173400@rccav.org
SUMMARY:12:30 p.m. Monthly Memorial Mass
DESCRIPTION:Join our 12:30 p.m. Monthly Memorial Mass\, offered for those who have been buried at Gardens of Gethsemani and St. Peter’s Catholic Cemeteries this month. This is an opportunity to unite in prayer and remembrance\, remembering that the Eucharist will bring us closer to the promise of eternal life and strengthens our hope in the resurrection.
URL:https://rccav.org/event/1230-p-m-monthly-memorial-mass-2-2/2024-07-28/
LOCATION:Evangelist Chapel at Gardens of Gethsemani\, 15694 32 Ave\, Surrey\, British Columbia\, V3Z 9V1\, Canada
ATTACH;FMTTYPE=image/jpeg:https://rccav.org/wp-content/uploads/2025/01/Gethsemani-0405-40-scaled.jpg
END:VEVENT
BEGIN:VEVENT
DTSTART;TZID=America/Vancouver:20240630T143000
DTEND;TZID=America/Vancouver:20240630T153000
DTSTAMP:20260425T192204
CREATED:20240216T142014Z
LAST-MODIFIED:20240216T142022Z
UID:10000615-1719757800-1719761400@rccav.org
SUMMARY:2:30 p.m. Monthly Memorial Mass
DESCRIPTION:Join our 2:30 p.m. Monthly Memorial Mass offered for those who have been buried at Gardens of Gethsemani and St. Peter’s Catholic Cemeteries during this month.
URL:https://rccav.org/event/230-p-m-monthly-memorial-mass-3/
LOCATION:Evangelist Chapel at Gardens of Gethsemani\, 15694 32 Ave\, Surrey\, British Columbia\, V3Z 9V1\, Canada
ATTACH;FMTTYPE=image/jpeg:https://rccav.org/wp-content/uploads/2021/12/memorial-mass-1536x960-1.jpg
END:VEVENT
BEGIN:VEVENT
DTSTART;TZID=America/Vancouver:20240630T123000
DTEND;TZID=America/Vancouver:20240630T133000
DTSTAMP:20260425T192204
CREATED:20240216T142001Z
LAST-MODIFIED:20240216T142008Z
UID:10000551-1719750600-1719754200@rccav.org
SUMMARY:12:30 p.m. Monthly Memorial Mass
DESCRIPTION:Join our 12:30 p.m. Monthly Memorial Mass offered for those who have been buried at Gardens of Gethsemani and St. Peter’s Catholic Cemeteries during this month.
URL:https://rccav.org/event/1230-p-m-monthly-memorial-mass-5/
LOCATION:Evangelist Chapel at Gardens of Gethsemani\, 15694 32 Ave\, Surrey\, British Columbia\, V3Z 9V1\, Canada
ATTACH;FMTTYPE=image/jpeg:https://rccav.org/wp-content/uploads/2021/12/memorial-mass-1536x960-1.jpg
END:VEVENT
BEGIN:VEVENT
DTSTART;TZID=America/Vancouver:20240623T123000
DTEND;TZID=America/Vancouver:20240623T133000
DTSTAMP:20260425T192204
CREATED:20231031T174653Z
LAST-MODIFIED:20260306T195404Z
UID:10002005-1719145800-1719149400@rccav.org
SUMMARY:12:30 p.m. Monthly Memorial Mass
DESCRIPTION:Join our 12:30 p.m. Monthly Memorial Mass\, offered for those who have been buried at Gardens of Gethsemani and St. Peter’s Catholic Cemeteries this month. This is an opportunity to unite in prayer and remembrance\, remembering that the Eucharist will bring us closer to the promise of eternal life and strengthens our hope in the resurrection.
URL:https://rccav.org/event/1230-p-m-monthly-memorial-mass-2-2/2024-06-23/
LOCATION:Evangelist Chapel at Gardens of Gethsemani\, 15694 32 Ave\, Surrey\, British Columbia\, V3Z 9V1\, Canada
ATTACH;FMTTYPE=image/jpeg:https://rccav.org/wp-content/uploads/2025/01/Gethsemani-0405-40-scaled.jpg
END:VEVENT
BEGIN:VEVENT
DTSTART;TZID=America/Vancouver:20240616T143000
DTEND;TZID=America/Vancouver:20240616T153000
DTSTAMP:20260425T192204
CREATED:20240606T204208Z
LAST-MODIFIED:20240606T204408Z
UID:10001127-1718548200-1718551800@rccav.org
SUMMARY:Father's Day Mass
DESCRIPTION:Please join us as we pray for our deceased fathers and grandfathers during the Holy Mass. \nPotted Begonias will be available to purchase after mass. $5.00 per pot\, while supplies last.
URL:https://rccav.org/event/fathers-day-mass-2/
LOCATION:Evangelist Chapel at Gardens of Gethsemani\, 15694 32 Ave\, Surrey\, British Columbia\, V3Z 9V1\, Canada
ATTACH;FMTTYPE=application/pdf:https://rccav.org/wp-content/uploads/2024/06/GoG-fathersDay2024_bccAd-002.pdf
END:VEVENT
BEGIN:VEVENT
DTSTART;TZID=America/Vancouver:20240526T143000
DTEND;TZID=America/Vancouver:20240526T153000
DTSTAMP:20260425T192204
CREATED:20240103T142526Z
LAST-MODIFIED:20240103T142913Z
UID:10000614-1716733800-1716737400@rccav.org
SUMMARY:2:30 p.m. Monthly Memorial Mass
DESCRIPTION:Join our 2:30 p.m. Monthly Memorial Mass offered for those who have been buried at Gardens of Gethsemani and St. Peter’s Catholic Cemeteries during this month.
URL:https://rccav.org/event/230-pm-memorial-mass/2024-05-26/
LOCATION:Evangelist Chapel at Gardens of Gethsemani\, 15694 32 Ave\, Surrey\, British Columbia\, V3Z 9V1\, Canada
ATTACH;FMTTYPE=image/jpeg:https://rccav.org/wp-content/uploads/2021/12/memorial-mass-1536x960-1.jpg
END:VEVENT
BEGIN:VEVENT
DTSTART;TZID=America/Vancouver:20240526T123000
DTEND;TZID=America/Vancouver:20240526T133000
DTSTAMP:20260425T192204
CREATED:20231031T174653Z
LAST-MODIFIED:20260306T195404Z
UID:10002004-1716726600-1716730200@rccav.org
SUMMARY:12:30 p.m. Monthly Memorial Mass
DESCRIPTION:Join our 12:30 p.m. Monthly Memorial Mass\, offered for those who have been buried at Gardens of Gethsemani and St. Peter’s Catholic Cemeteries this month. This is an opportunity to unite in prayer and remembrance\, remembering that the Eucharist will bring us closer to the promise of eternal life and strengthens our hope in the resurrection.
URL:https://rccav.org/event/1230-p-m-monthly-memorial-mass-2-2/2024-05-26/
LOCATION:Evangelist Chapel at Gardens of Gethsemani\, 15694 32 Ave\, Surrey\, British Columbia\, V3Z 9V1\, Canada
ATTACH;FMTTYPE=image/jpeg:https://rccav.org/wp-content/uploads/2025/01/Gethsemani-0405-40-scaled.jpg
END:VEVENT
BEGIN:VEVENT
DTSTART;TZID=America/Vancouver:20240512T143000
DTEND;TZID=America/Vancouver:20240512T153000
DTSTAMP:20260425T192204
CREATED:20240418T203304Z
LAST-MODIFIED:20240418T203500Z
UID:10001122-1715524200-1715527800@rccav.org
SUMMARY:Mother's Day Mass
DESCRIPTION:Let’s celebrate together Mother’s Day with a special mass\, as we pray for our dear mothers and grandmothers\, whom we had the blessing to share our lives with and are now in the presence of the Lord. \n“The world changes from year to year\, our lives from day to day\, but the love and memory of you\, shall never pass away.” – Unknown \nPotted begonias will be available to purchase after mass\, $5.00 per pot\, while supplies last. \nSee you then!
URL:https://rccav.org/event/mothers-day-mass-2/
LOCATION:Evangelist Chapel at Gardens of Gethsemani\, 15694 32 Ave\, Surrey\, British Columbia\, V3Z 9V1\, Canada
ATTACH;FMTTYPE=image/jpeg:https://rccav.org/wp-content/uploads/2022/07/Gardens-of-Gethsemani-Garden-Grounds-1111-scaled.jpg
END:VEVENT
BEGIN:VEVENT
DTSTART;TZID=America/Vancouver:20240428T143000
DTEND;TZID=America/Vancouver:20240428T153000
DTSTAMP:20260425T192204
CREATED:20240103T142526Z
LAST-MODIFIED:20240103T142913Z
UID:10000613-1714314600-1714318200@rccav.org
SUMMARY:2:30 p.m. Monthly Memorial Mass
DESCRIPTION:Join our 2:30 p.m. Monthly Memorial Mass offered for those who have been buried at Gardens of Gethsemani and St. Peter’s Catholic Cemeteries during this month.
URL:https://rccav.org/event/230-pm-memorial-mass/2024-04-28/
LOCATION:Evangelist Chapel at Gardens of Gethsemani\, 15694 32 Ave\, Surrey\, British Columbia\, V3Z 9V1\, Canada
ATTACH;FMTTYPE=image/jpeg:https://rccav.org/wp-content/uploads/2021/12/memorial-mass-1536x960-1.jpg
END:VEVENT
BEGIN:VEVENT
DTSTART;TZID=America/Vancouver:20240428T123000
DTEND;TZID=America/Vancouver:20240428T133000
DTSTAMP:20260425T192204
CREATED:20231031T174653Z
LAST-MODIFIED:20260306T195404Z
UID:10000549-1714307400-1714311000@rccav.org
SUMMARY:12:30 p.m. Monthly Memorial Mass
DESCRIPTION:Join our 12:30 p.m. Monthly Memorial Mass\, offered for those who have been buried at Gardens of Gethsemani and St. Peter’s Catholic Cemeteries this month. This is an opportunity to unite in prayer and remembrance\, remembering that the Eucharist will bring us closer to the promise of eternal life and strengthens our hope in the resurrection.
URL:https://rccav.org/event/1230-p-m-monthly-memorial-mass-2-2/2024-04-28/
LOCATION:Evangelist Chapel at Gardens of Gethsemani\, 15694 32 Ave\, Surrey\, British Columbia\, V3Z 9V1\, Canada
ATTACH;FMTTYPE=image/jpeg:https://rccav.org/wp-content/uploads/2025/01/Gethsemani-0405-40-scaled.jpg
END:VEVENT
BEGIN:VEVENT
DTSTART;TZID=America/Vancouver:20240421T130000
DTEND;TZID=America/Vancouver:20240421T160000
DTSTAMP:20260425T192204
CREATED:20240328T200939Z
LAST-MODIFIED:20240328T203825Z
UID:10001121-1713704400-1713715200@rccav.org
SUMMARY:Matthew Intercessory Prayer Brigade
DESCRIPTION:“Pray\, hope and don’t worry. Worry is useless. God is merciful and will hear your prayers”. (St. Padre Pio)\nGardens of Gethsemani is hosting the Matthew Intercessory Prayer Brigade! \nJoin us to pray for your family and the souls of your loved ones with Eucharistic Adoration and Scriptural Rosaries.  This event is organized by the Filipino Ministry of the Archdiocese of Vancouver and led by it’s coordinator\, Deacon Raul Abella. \nDon’t miss this special opportunity to witness the power of prayer! \nSee you soon! \n  \n 
URL:https://rccav.org/event/matthew-intercessory-prayer-brigade/
LOCATION:Evangelist Chapel at Gardens of Gethsemani\, 15694 32 Ave\, Surrey\, British Columbia\, V3Z 9V1\, Canada
ATTACH;FMTTYPE=image/png:https://rccav.org/wp-content/uploads/2024/03/Image.png
END:VEVENT
BEGIN:VEVENT
DTSTART;TZID=America/Vancouver:20240324T123000
DTEND;TZID=America/Vancouver:20240324T133000
DTSTAMP:20260425T192204
CREATED:20231031T174653Z
LAST-MODIFIED:20260306T195404Z
UID:10002003-1711283400-1711287000@rccav.org
SUMMARY:12:30 p.m. Monthly Memorial Mass
DESCRIPTION:Join our 12:30 p.m. Monthly Memorial Mass\, offered for those who have been buried at Gardens of Gethsemani and St. Peter’s Catholic Cemeteries this month. This is an opportunity to unite in prayer and remembrance\, remembering that the Eucharist will bring us closer to the promise of eternal life and strengthens our hope in the resurrection.
URL:https://rccav.org/event/1230-p-m-monthly-memorial-mass-2-2/2024-03-24/
LOCATION:Evangelist Chapel at Gardens of Gethsemani\, 15694 32 Ave\, Surrey\, British Columbia\, V3Z 9V1\, Canada
ATTACH;FMTTYPE=image/jpeg:https://rccav.org/wp-content/uploads/2025/01/Gethsemani-0405-40-scaled.jpg
END:VEVENT
BEGIN:VEVENT
DTSTART;TZID=America/Vancouver:20240317T143000
DTEND;TZID=America/Vancouver:20240317T153000
DTSTAMP:20260425T192204
CREATED:20240216T141932Z
LAST-MODIFIED:20240216T141940Z
UID:10000612-1710685800-1710689400@rccav.org
SUMMARY:2:30 p.m. Monthly Memorial Mass
DESCRIPTION:Join our 2:30 p.m. Monthly Memorial Mass offered for those who have been buried at Gardens of Gethsemani and St. Peter’s Catholic Cemeteries during this month.
URL:https://rccav.org/event/230-p-m-monthly-memorial-mass-2/
LOCATION:Evangelist Chapel at Gardens of Gethsemani\, 15694 32 Ave\, Surrey\, British Columbia\, V3Z 9V1\, Canada
ATTACH;FMTTYPE=image/jpeg:https://rccav.org/wp-content/uploads/2021/12/memorial-mass-1536x960-1.jpg
END:VEVENT
BEGIN:VEVENT
DTSTART;TZID=America/Vancouver:20240317T123000
DTEND;TZID=America/Vancouver:20240317T133000
DTSTAMP:20260425T192204
CREATED:20240216T141947Z
LAST-MODIFIED:20240216T141953Z
UID:10000548-1710678600-1710682200@rccav.org
SUMMARY:12:30 p.m. Monthly Memorial Mass
DESCRIPTION:Join our 12:30 p.m. Monthly Memorial Mass offered for those who have been buried at Gardens of Gethsemani and St. Peter’s Catholic Cemeteries during this month.
URL:https://rccav.org/event/1230-p-m-monthly-memorial-mass-4/
LOCATION:Evangelist Chapel at Gardens of Gethsemani\, 15694 32 Ave\, Surrey\, British Columbia\, V3Z 9V1\, Canada
ATTACH;FMTTYPE=image/jpeg:https://rccav.org/wp-content/uploads/2021/12/memorial-mass-1536x960-1.jpg
END:VEVENT
BEGIN:VEVENT
DTSTART;TZID=America/Vancouver:20240225T143000
DTEND;TZID=America/Vancouver:20240225T153000
DTSTAMP:20260425T192204
CREATED:20240103T142526Z
LAST-MODIFIED:20240103T142913Z
UID:10000611-1708871400-1708875000@rccav.org
SUMMARY:2:30 p.m. Monthly Memorial Mass
DESCRIPTION:Join our 2:30 p.m. Monthly Memorial Mass offered for those who have been buried at Gardens of Gethsemani and St. Peter’s Catholic Cemeteries during this month.
URL:https://rccav.org/event/230-pm-memorial-mass/2024-02-25/
LOCATION:Evangelist Chapel at Gardens of Gethsemani\, 15694 32 Ave\, Surrey\, British Columbia\, V3Z 9V1\, Canada
ATTACH;FMTTYPE=image/jpeg:https://rccav.org/wp-content/uploads/2021/12/memorial-mass-1536x960-1.jpg
END:VEVENT
BEGIN:VEVENT
DTSTART;TZID=America/Vancouver:20240225T123000
DTEND;TZID=America/Vancouver:20240225T133000
DTSTAMP:20260425T192204
CREATED:20231031T174653Z
LAST-MODIFIED:20260306T195404Z
UID:10002002-1708864200-1708867800@rccav.org
SUMMARY:12:30 p.m. Monthly Memorial Mass
DESCRIPTION:Join our 12:30 p.m. Monthly Memorial Mass\, offered for those who have been buried at Gardens of Gethsemani and St. Peter’s Catholic Cemeteries this month. This is an opportunity to unite in prayer and remembrance\, remembering that the Eucharist will bring us closer to the promise of eternal life and strengthens our hope in the resurrection.
URL:https://rccav.org/event/1230-p-m-monthly-memorial-mass-2-2/2024-02-25/
LOCATION:Evangelist Chapel at Gardens of Gethsemani\, 15694 32 Ave\, Surrey\, British Columbia\, V3Z 9V1\, Canada
ATTACH;FMTTYPE=image/jpeg:https://rccav.org/wp-content/uploads/2025/01/Gethsemani-0405-40-scaled.jpg
END:VEVENT
BEGIN:VEVENT
DTSTART;TZID=America/Vancouver:20240128T143000
DTEND;TZID=America/Vancouver:20240128T153000
DTSTAMP:20260425T192204
CREATED:20240103T142526Z
LAST-MODIFIED:20240103T142913Z
UID:10000610-1706452200-1706455800@rccav.org
SUMMARY:2:30 p.m. Monthly Memorial Mass
DESCRIPTION:Join our 2:30 p.m. Monthly Memorial Mass offered for those who have been buried at Gardens of Gethsemani and St. Peter’s Catholic Cemeteries during this month.
URL:https://rccav.org/event/230-pm-memorial-mass/2024-01-28/
LOCATION:Evangelist Chapel at Gardens of Gethsemani\, 15694 32 Ave\, Surrey\, British Columbia\, V3Z 9V1\, Canada
ATTACH;FMTTYPE=image/jpeg:https://rccav.org/wp-content/uploads/2021/12/memorial-mass-1536x960-1.jpg
END:VEVENT
BEGIN:VEVENT
DTSTART;TZID=America/Vancouver:20240128T123000
DTEND;TZID=America/Vancouver:20240128T133000
DTSTAMP:20260425T192204
CREATED:20231031T174653Z
LAST-MODIFIED:20260306T195404Z
UID:10000546-1706445000-1706448600@rccav.org
SUMMARY:12:30 p.m. Monthly Memorial Mass
DESCRIPTION:Join our 12:30 p.m. Monthly Memorial Mass\, offered for those who have been buried at Gardens of Gethsemani and St. Peter’s Catholic Cemeteries this month. This is an opportunity to unite in prayer and remembrance\, remembering that the Eucharist will bring us closer to the promise of eternal life and strengthens our hope in the resurrection.
URL:https://rccav.org/event/1230-p-m-monthly-memorial-mass-2-2/2024-01-28/
LOCATION:Evangelist Chapel at Gardens of Gethsemani\, 15694 32 Ave\, Surrey\, British Columbia\, V3Z 9V1\, Canada
ATTACH;FMTTYPE=image/jpeg:https://rccav.org/wp-content/uploads/2025/01/Gethsemani-0405-40-scaled.jpg
END:VEVENT
BEGIN:VEVENT
DTSTART;TZID=America/Vancouver:20231217T143000
DTEND;TZID=America/Vancouver:20231217T153000
DTSTAMP:20260425T192204
CREATED:20231117T193510Z
LAST-MODIFIED:20231211T191027Z
UID:10000608-1702823400-1702827000@rccav.org
SUMMARY:Christmas Memorial Mass & Tree of Remembrance
DESCRIPTION:We offer this Mass for the repose of the souls of our loved ones buried at Gardens and St. Peter’s Cemeteries in December. We invite you to arrive earlier to personalize an ornament for your loved one and place it on our Tree of Remembrance. Hot beverages and Christmas cookies will be served after Mass.\n﻿﻿
URL:https://rccav.org/event/july-monthly-memorial-mass-2/
LOCATION:Evangelist Chapel at Gardens of Gethsemani\, 15694 32 Ave\, Surrey\, British Columbia\, V3Z 9V1\, Canada
ATTACH;FMTTYPE=image/jpeg:https://rccav.org/wp-content/uploads/2021/10/Christmas-tree-2020-scaled.jpg
END:VEVENT
BEGIN:VEVENT
DTSTART;TZID=America/Vancouver:20231217T123000
DTEND;TZID=America/Vancouver:20231217T133000
DTSTAMP:20260425T192204
CREATED:20231117T193601Z
LAST-MODIFIED:20231211T190944Z
UID:10000119-1702816200-1702819800@rccav.org
SUMMARY:Christmas Memorial Mass & Tree of Remembrance
DESCRIPTION:We offer this Mass for the repose of the souls of our loved ones buried at Gardens and St. Peter’s Cemeteries in December. We invite you to arrive earlier to personalize an ornament for your loved one and place it on our Tree of Remembrance. Hot beverages and Christmas cookies will be served after Mass. \n﻿﻿
URL:https://rccav.org/event/july-monthly-memorial-mass-3/
LOCATION:Evangelist Chapel at Gardens of Gethsemani\, 15694 32 Ave\, Surrey\, British Columbia\, V3Z 9V1\, Canada
ATTACH;FMTTYPE=image/jpeg:https://rccav.org/wp-content/uploads/2021/10/Christmas-tree-2020-scaled.jpg
END:VEVENT
BEGIN:VEVENT
DTSTART;TZID=America/Vancouver:20231126T143000
DTEND;TZID=America/Vancouver:20231126T153000
DTSTAMP:20260425T192204
CREATED:20231031T175140Z
LAST-MODIFIED:20231031T175140Z
UID:10000544-1701009000-1701012600@rccav.org
SUMMARY:2:30 p.m. Monthly Memorial Mass
DESCRIPTION:Mass for all the deceased in the month of November\, as well as those who celebrate their Death Anniversary. Celebrant: Fr. Wolnick
URL:https://rccav.org/event/1230-p-m-monthly-memorial-mass-3-2/
LOCATION:Evangelist Chapel at Gardens of Gethsemani\, 15694 32 Ave\, Surrey\, British Columbia\, V3Z 9V1\, Canada
ATTACH;FMTTYPE=image/jpeg:https://rccav.org/wp-content/uploads/2021/12/memorial-mass-1536x960-1.jpg
END:VEVENT
BEGIN:VEVENT
DTSTART;TZID=America/Vancouver:20231126T123000
DTEND;TZID=America/Vancouver:20231126T133000
DTSTAMP:20260425T192204
CREATED:20231031T174713Z
LAST-MODIFIED:20231031T174751Z
UID:10000543-1701001800-1701005400@rccav.org
SUMMARY:12:30 p.m. Monthly Memorial Mass
DESCRIPTION:Mass for all the deceased in the month of November\, as well as those who celebrate their Death Anniversary. Celebrant: Fr. Wolnick
URL:https://rccav.org/event/1230-p-m-monthly-memorial-mass-3/
LOCATION:Evangelist Chapel at Gardens of Gethsemani\, 15694 32 Ave\, Surrey\, British Columbia\, V3Z 9V1\, Canada
ATTACH;FMTTYPE=image/jpeg:https://rccav.org/wp-content/uploads/2021/12/memorial-mass-1536x960-1.jpg
END:VEVENT
BEGIN:VEVENT
DTSTART;TZID=America/Vancouver:20231111T094500
DTEND;TZID=America/Vancouver:20231111T110000
DTSTAMP:20260425T192204
CREATED:20210927T154845Z
LAST-MODIFIED:20231031T174443Z
UID:10000094-1699695900-1699700400@rccav.org
SUMMARY:Remembrance Day Mass
DESCRIPTION:Remembrance for the men and women who have served and continue to serve our country during times of war\, conflict and peace.\n9:45 am Mass\, 11:00 am Laying of Wreaths | Celebrant: Fr. Galvon
URL:https://rccav.org/event/remembrance-day-mass/
LOCATION:Evangelist Chapel at Gardens of Gethsemani\, 15694 32 Ave\, Surrey\, British Columbia\, V3Z 9V1\, Canada
ATTACH;FMTTYPE=image/jpeg:https://rccav.org/wp-content/uploads/2021/09/canada-flag.jpg
END:VEVENT
END:VCALENDAR