BEGIN:VCALENDAR
VERSION:2.0
PRODID:-//Gardens of Gethsemani - ECPv6.15.12.2//NONSGML v1.0//EN
CALSCALE:GREGORIAN
METHOD:PUBLISH
X-WR-CALNAME:Gardens of Gethsemani
X-ORIGINAL-URL:https://rccav.org
X-WR-CALDESC:Events for Gardens of Gethsemani
REFRESH-INTERVAL;VALUE=DURATION:PT1H
X-Robots-Tag:noindex
X-PUBLISHED-TTL:PT1H
BEGIN:VTIMEZONE
TZID:America/Vancouver
BEGIN:DAYLIGHT
TZOFFSETFROM:-0800
TZOFFSETTO:-0700
TZNAME:PDT
DTSTART:20290311T100000
END:DAYLIGHT
BEGIN:STANDARD
TZOFFSETFROM:-0700
TZOFFSETTO:-0800
TZNAME:PST
DTSTART:20291104T090000
END:STANDARD
BEGIN:DAYLIGHT
TZOFFSETFROM:-0800
TZOFFSETTO:-0700
TZNAME:PDT
DTSTART:20300310T100000
END:DAYLIGHT
BEGIN:STANDARD
TZOFFSETFROM:-0700
TZOFFSETTO:-0800
TZNAME:PST
DTSTART:20301103T090000
END:STANDARD
BEGIN:DAYLIGHT
TZOFFSETFROM:-0800
TZOFFSETTO:-0700
TZNAME:PDT
DTSTART:20310309T100000
END:DAYLIGHT
BEGIN:STANDARD
TZOFFSETFROM:-0700
TZOFFSETTO:-0800
TZNAME:PST
DTSTART:20311102T090000
END:STANDARD
BEGIN:DAYLIGHT
TZOFFSETFROM:-0800
TZOFFSETTO:-0700
TZNAME:PDT
DTSTART:20320314T100000
END:DAYLIGHT
BEGIN:STANDARD
TZOFFSETFROM:-0700
TZOFFSETTO:-0800
TZNAME:PST
DTSTART:20321107T090000
END:STANDARD
END:VTIMEZONE
BEGIN:VEVENT
DTSTART;TZID=America/Vancouver:20301205T100000
DTEND;TZID=America/Vancouver:20301205T113000
DTSTAMP:20260424T145405
CREATED:20240130T204417Z
LAST-MODIFIED:20260220T174459Z
UID:10001828-1922695200-1922700600@rccav.org
SUMMARY:Monthly Rosary Walk
DESCRIPTION:Join Gardens of Gethsemani staff and community for our monthly rosary walk through Gardens as we meditate on the mysteries of the life of Jesus\, and pray for our loved ones and all those buried at Gardens. \nThe rosary walk will take place the first Thursday of every month at 10 a.m.  We will meet in front of the Holy Angels buildings’ parking lot and will end back at Holy Angels with some light refreshments. There is plenty of parking in that area. \n“The Rosary is the most beautiful and rich in graces of all prayers; it is the prayer that touches most the Heart of the Mother of God…and if you wish peace to reign in your homes\, recite the family Rosary.” ~ Pope Pius X \nEvent runs rain or shine! All are welcome! \nFor directions to the Holy Angels buildings: Drive through the main gate of Gardens of Gethsemani\, take a right at the roundabout\, drive up the hill and the first cluster of buildings you see on your right hand are the Holy Angels buildings.
URL:https://rccav.org/event/monthly-rosary-walk-13/2030-12-05/
LOCATION:Gardens of Gethsemani\, 15694 32 Avenue\, Surrey\, British Columbia\, V3Z 9V1\, Canada
ATTACH;FMTTYPE=image/jpeg:https://rccav.org/wp-content/uploads/2021/12/Rosary.jpg
END:VEVENT
BEGIN:VEVENT
DTSTART;TZID=America/Vancouver:20310102T100000
DTEND;TZID=America/Vancouver:20310102T113000
DTSTAMP:20260424T145405
CREATED:20240130T204417Z
LAST-MODIFIED:20260220T174459Z
UID:10001906-1925114400-1925119800@rccav.org
SUMMARY:Monthly Rosary Walk
DESCRIPTION:Join Gardens of Gethsemani staff and community for our monthly rosary walk through Gardens as we meditate on the mysteries of the life of Jesus\, and pray for our loved ones and all those buried at Gardens. \nThe rosary walk will take place the first Thursday of every month at 10 a.m.  We will meet in front of the Holy Angels buildings’ parking lot and will end back at Holy Angels with some light refreshments. There is plenty of parking in that area. \n“The Rosary is the most beautiful and rich in graces of all prayers; it is the prayer that touches most the Heart of the Mother of God…and if you wish peace to reign in your homes\, recite the family Rosary.” ~ Pope Pius X \nEvent runs rain or shine! All are welcome! \nFor directions to the Holy Angels buildings: Drive through the main gate of Gardens of Gethsemani\, take a right at the roundabout\, drive up the hill and the first cluster of buildings you see on your right hand are the Holy Angels buildings.
URL:https://rccav.org/event/monthly-rosary-walk-13/2031-01-02/
LOCATION:Gardens of Gethsemani\, 15694 32 Avenue\, Surrey\, British Columbia\, V3Z 9V1\, Canada
ATTACH;FMTTYPE=image/jpeg:https://rccav.org/wp-content/uploads/2021/12/Rosary.jpg
END:VEVENT
BEGIN:VEVENT
DTSTART;TZID=America/Vancouver:20310206T100000
DTEND;TZID=America/Vancouver:20310206T113000
DTSTAMP:20260424T145405
CREATED:20240130T204417Z
LAST-MODIFIED:20260220T174459Z
UID:10001907-1928138400-1928143800@rccav.org
SUMMARY:Monthly Rosary Walk
DESCRIPTION:Join Gardens of Gethsemani staff and community for our monthly rosary walk through Gardens as we meditate on the mysteries of the life of Jesus\, and pray for our loved ones and all those buried at Gardens. \nThe rosary walk will take place the first Thursday of every month at 10 a.m.  We will meet in front of the Holy Angels buildings’ parking lot and will end back at Holy Angels with some light refreshments. There is plenty of parking in that area. \n“The Rosary is the most beautiful and rich in graces of all prayers; it is the prayer that touches most the Heart of the Mother of God…and if you wish peace to reign in your homes\, recite the family Rosary.” ~ Pope Pius X \nEvent runs rain or shine! All are welcome! \nFor directions to the Holy Angels buildings: Drive through the main gate of Gardens of Gethsemani\, take a right at the roundabout\, drive up the hill and the first cluster of buildings you see on your right hand are the Holy Angels buildings.
URL:https://rccav.org/event/monthly-rosary-walk-13/2031-02-06/
LOCATION:Gardens of Gethsemani\, 15694 32 Avenue\, Surrey\, British Columbia\, V3Z 9V1\, Canada
ATTACH;FMTTYPE=image/jpeg:https://rccav.org/wp-content/uploads/2021/12/Rosary.jpg
END:VEVENT
END:VCALENDAR