BEGIN:VCALENDAR
VERSION:2.0
PRODID:-//Gardens of Gethsemani - ECPv6.15.12.2//NONSGML v1.0//EN
CALSCALE:GREGORIAN
METHOD:PUBLISH
X-ORIGINAL-URL:https://rccav.org
X-WR-CALDESC:Events for Gardens of Gethsemani
REFRESH-INTERVAL;VALUE=DURATION:PT1H
X-Robots-Tag:noindex
X-PUBLISHED-TTL:PT1H
BEGIN:VTIMEZONE
TZID:America/Vancouver
BEGIN:DAYLIGHT
TZOFFSETFROM:-0800
TZOFFSETTO:-0700
TZNAME:PDT
DTSTART:20210314T100000
END:DAYLIGHT
BEGIN:STANDARD
TZOFFSETFROM:-0700
TZOFFSETTO:-0800
TZNAME:PST
DTSTART:20211107T090000
END:STANDARD
BEGIN:DAYLIGHT
TZOFFSETFROM:-0800
TZOFFSETTO:-0700
TZNAME:PDT
DTSTART:20220313T100000
END:DAYLIGHT
BEGIN:STANDARD
TZOFFSETFROM:-0700
TZOFFSETTO:-0800
TZNAME:PST
DTSTART:20221106T090000
END:STANDARD
BEGIN:DAYLIGHT
TZOFFSETFROM:-0800
TZOFFSETTO:-0700
TZNAME:PDT
DTSTART:20230312T100000
END:DAYLIGHT
BEGIN:STANDARD
TZOFFSETFROM:-0700
TZOFFSETTO:-0800
TZNAME:PST
DTSTART:20231105T090000
END:STANDARD
END:VTIMEZONE
BEGIN:VEVENT
DTSTART;TZID=America/Vancouver:20221127T143000
DTEND;TZID=America/Vancouver:20221127T163000
DTSTAMP:20260423T124436
CREATED:20221109T214922Z
LAST-MODIFIED:20221109T214922Z
UID:10000163-1669559400-1669566600@rccav.org
SUMMARY:An Advent of Hope\, Comfort & Reflection For Infant & Child Loss
DESCRIPTION:The holidays can be an anticipation of joy and ‘good cheer’\, yet for those missing a loved one\, the upcoming season may also bring about a mix of emotions. You are not alone. We understand that grief is a part of the healing journey and that Advent is a sign of hope\, comfort and reflection. \nElizabeth Ministry is a peer support\, infant loss ministry. We are hosting a gathering for bereaved families and friends who have experienced the loss of a preborn infant during pregnancy at any gestational age\, as well as child loss. \nYou’re invited to join us in fellowship to build community and share stories; feel free to bring photos and/or remembrance items. We’ll talk about ways to honour the memory of our loved one during Advent and Christmas time. There will also be a guided prayer meditation led by an Elizabeth Minister. \nJoin us for light refreshments\, cookies and hot chocolate! Families will have the opportunity to get together and create a memento to celebrate the little souls gone-to-soon. There will also be a child-friendly craft and parent participation gym time for the children. \nAll welcome – parents\, family\, friends\, grandparents and children. \nFor more info. visit: ElizabethMinistryBC.ca or info@ElizabethMinistryBC.ca. RSVPs welcome\, but not required.
URL:https://rccav.org/event/an-advent-of-hope-comfort-reflection-for-infant-child-loss/
LOCATION:St. Nicholas Parish  20675 87 Ave\, Langley\, BC V1M 3X4\, 20675 87 Ave\, Langley\, British Columbia\, V1M 3X4\, Canada
ATTACH;FMTTYPE=image/jpeg:https://rccav.org/wp-content/uploads/2021/09/infant-loss-mass-scaled.jpg
END:VEVENT
END:VCALENDAR