BEGIN:VCALENDAR
VERSION:2.0
PRODID:-//Gardens of Gethsemani - ECPv6.15.12.2//NONSGML v1.0//EN
CALSCALE:GREGORIAN
METHOD:PUBLISH
X-WR-CALNAME:Gardens of Gethsemani
X-ORIGINAL-URL:https://rccav.org
X-WR-CALDESC:Events for Gardens of Gethsemani
REFRESH-INTERVAL;VALUE=DURATION:PT1H
X-Robots-Tag:noindex
X-PUBLISHED-TTL:PT1H
BEGIN:VTIMEZONE
TZID:America/Vancouver
BEGIN:DAYLIGHT
TZOFFSETFROM:-0800
TZOFFSETTO:-0700
TZNAME:PDT
DTSTART:20250309T100000
END:DAYLIGHT
BEGIN:STANDARD
TZOFFSETFROM:-0700
TZOFFSETTO:-0800
TZNAME:PST
DTSTART:20251102T090000
END:STANDARD
BEGIN:DAYLIGHT
TZOFFSETFROM:-0800
TZOFFSETTO:-0700
TZNAME:PDT
DTSTART:20260308T100000
END:DAYLIGHT
BEGIN:STANDARD
TZOFFSETFROM:-0700
TZOFFSETTO:-0800
TZNAME:PST
DTSTART:20261101T090000
END:STANDARD
BEGIN:DAYLIGHT
TZOFFSETFROM:-0800
TZOFFSETTO:-0700
TZNAME:PDT
DTSTART:20270314T100000
END:DAYLIGHT
BEGIN:STANDARD
TZOFFSETFROM:-0700
TZOFFSETTO:-0800
TZNAME:PST
DTSTART:20271107T090000
END:STANDARD
BEGIN:DAYLIGHT
TZOFFSETFROM:-0800
TZOFFSETTO:-0700
TZNAME:PDT
DTSTART:20280312T100000
END:DAYLIGHT
BEGIN:STANDARD
TZOFFSETFROM:-0700
TZOFFSETTO:-0800
TZNAME:PST
DTSTART:20281105T090000
END:STANDARD
BEGIN:DAYLIGHT
TZOFFSETFROM:-0800
TZOFFSETTO:-0700
TZNAME:PDT
DTSTART:20290311T100000
END:DAYLIGHT
BEGIN:STANDARD
TZOFFSETFROM:-0700
TZOFFSETTO:-0800
TZNAME:PST
DTSTART:20291104T090000
END:STANDARD
END:VTIMEZONE
BEGIN:VEVENT
DTSTART;TZID=America/Vancouver:20260425T120000
DTEND;TZID=America/Vancouver:20260425T153000
DTSTAMP:20260421T062804
CREATED:20251209T213210Z
LAST-MODIFIED:20260306T194325Z
UID:10001750-1777118400-1777131000@rccav.org
SUMMARY:Bus Service from Vancouver to Gardens
DESCRIPTION:Gardens of Gethsemani Catholic Cemetery and Columbus Homes are sponsoring a bus ride from Vancouver to Gardens of Gethsemani in Surrey. The bus will depart from St. Patrick’s Parish on Main Street at 12 p.m. and will be back at St. Patrick’s around 3:30 p.m. To secure a spot please register for free: \nClick here to register
URL:https://rccav.org/event/bus-service-from-vancouver-to-gardens-2-7-2/2026-04-25/
LOCATION:St. Patrick’s Parish Vancouver parking lot\, 2881 Main St.\, Vancouver\, British Columbia\, V5T 3G1\, Canada
ATTACH;FMTTYPE=image/jpeg:https://rccav.org/wp-content/uploads/2025/12/Gethsemani-0405-5-scaled.jpg
END:VEVENT
BEGIN:VEVENT
DTSTART;TZID=America/Vancouver:20260530T120000
DTEND;TZID=America/Vancouver:20260530T153000
DTSTAMP:20260421T062804
CREATED:20251209T213210Z
LAST-MODIFIED:20260306T194325Z
UID:10001751-1780142400-1780155000@rccav.org
SUMMARY:Bus Service from Vancouver to Gardens
DESCRIPTION:Gardens of Gethsemani Catholic Cemetery and Columbus Homes are sponsoring a bus ride from Vancouver to Gardens of Gethsemani in Surrey. The bus will depart from St. Patrick’s Parish on Main Street at 12 p.m. and will be back at St. Patrick’s around 3:30 p.m. To secure a spot please register for free: \nClick here to register
URL:https://rccav.org/event/bus-service-from-vancouver-to-gardens-2-7-2/2026-05-30/
LOCATION:St. Patrick’s Parish Vancouver parking lot\, 2881 Main St.\, Vancouver\, British Columbia\, V5T 3G1\, Canada
ATTACH;FMTTYPE=image/jpeg:https://rccav.org/wp-content/uploads/2025/12/Gethsemani-0405-5-scaled.jpg
END:VEVENT
BEGIN:VEVENT
DTSTART;TZID=America/Vancouver:20260627T120000
DTEND;TZID=America/Vancouver:20260627T153000
DTSTAMP:20260421T062804
CREATED:20251209T213210Z
LAST-MODIFIED:20260306T194325Z
UID:10001752-1782561600-1782574200@rccav.org
SUMMARY:Bus Service from Vancouver to Gardens
DESCRIPTION:Gardens of Gethsemani Catholic Cemetery and Columbus Homes are sponsoring a bus ride from Vancouver to Gardens of Gethsemani in Surrey. The bus will depart from St. Patrick’s Parish on Main Street at 12 p.m. and will be back at St. Patrick’s around 3:30 p.m. To secure a spot please register for free: \nClick here to register
URL:https://rccav.org/event/bus-service-from-vancouver-to-gardens-2-7-2/2026-06-27/
LOCATION:St. Patrick’s Parish Vancouver parking lot\, 2881 Main St.\, Vancouver\, British Columbia\, V5T 3G1\, Canada
ATTACH;FMTTYPE=image/jpeg:https://rccav.org/wp-content/uploads/2025/12/Gethsemani-0405-5-scaled.jpg
END:VEVENT
BEGIN:VEVENT
DTSTART;TZID=America/Vancouver:20260725T120000
DTEND;TZID=America/Vancouver:20260725T153000
DTSTAMP:20260421T062804
CREATED:20251209T213210Z
LAST-MODIFIED:20260306T194325Z
UID:10001753-1784980800-1784993400@rccav.org
SUMMARY:Bus Service from Vancouver to Gardens
DESCRIPTION:Gardens of Gethsemani Catholic Cemetery and Columbus Homes are sponsoring a bus ride from Vancouver to Gardens of Gethsemani in Surrey. The bus will depart from St. Patrick’s Parish on Main Street at 12 p.m. and will be back at St. Patrick’s around 3:30 p.m. To secure a spot please register for free: \nClick here to register
URL:https://rccav.org/event/bus-service-from-vancouver-to-gardens-2-7-2/2026-07-25/
LOCATION:St. Patrick’s Parish Vancouver parking lot\, 2881 Main St.\, Vancouver\, British Columbia\, V5T 3G1\, Canada
ATTACH;FMTTYPE=image/jpeg:https://rccav.org/wp-content/uploads/2025/12/Gethsemani-0405-5-scaled.jpg
END:VEVENT
BEGIN:VEVENT
DTSTART;TZID=America/Vancouver:20260829T120000
DTEND;TZID=America/Vancouver:20260829T153000
DTSTAMP:20260421T062804
CREATED:20251209T213210Z
LAST-MODIFIED:20260306T194325Z
UID:10001754-1788004800-1788017400@rccav.org
SUMMARY:Bus Service from Vancouver to Gardens
DESCRIPTION:Gardens of Gethsemani Catholic Cemetery and Columbus Homes are sponsoring a bus ride from Vancouver to Gardens of Gethsemani in Surrey. The bus will depart from St. Patrick’s Parish on Main Street at 12 p.m. and will be back at St. Patrick’s around 3:30 p.m. To secure a spot please register for free: \nClick here to register
URL:https://rccav.org/event/bus-service-from-vancouver-to-gardens-2-7-2/2026-08-29/
LOCATION:St. Patrick’s Parish Vancouver parking lot\, 2881 Main St.\, Vancouver\, British Columbia\, V5T 3G1\, Canada
ATTACH;FMTTYPE=image/jpeg:https://rccav.org/wp-content/uploads/2025/12/Gethsemani-0405-5-scaled.jpg
END:VEVENT
BEGIN:VEVENT
DTSTART;TZID=America/Vancouver:20260926T120000
DTEND;TZID=America/Vancouver:20260926T153000
DTSTAMP:20260421T062804
CREATED:20251209T213210Z
LAST-MODIFIED:20260306T194325Z
UID:10001755-1790424000-1790436600@rccav.org
SUMMARY:Bus Service from Vancouver to Gardens
DESCRIPTION:Gardens of Gethsemani Catholic Cemetery and Columbus Homes are sponsoring a bus ride from Vancouver to Gardens of Gethsemani in Surrey. The bus will depart from St. Patrick’s Parish on Main Street at 12 p.m. and will be back at St. Patrick’s around 3:30 p.m. To secure a spot please register for free: \nClick here to register
URL:https://rccav.org/event/bus-service-from-vancouver-to-gardens-2-7-2/2026-09-26/
LOCATION:St. Patrick’s Parish Vancouver parking lot\, 2881 Main St.\, Vancouver\, British Columbia\, V5T 3G1\, Canada
ATTACH;FMTTYPE=image/jpeg:https://rccav.org/wp-content/uploads/2025/12/Gethsemani-0405-5-scaled.jpg
END:VEVENT
BEGIN:VEVENT
DTSTART;TZID=America/Vancouver:20261031T120000
DTEND;TZID=America/Vancouver:20261031T153000
DTSTAMP:20260421T062804
CREATED:20251209T213210Z
LAST-MODIFIED:20260306T194325Z
UID:10001756-1793448000-1793460600@rccav.org
SUMMARY:Bus Service from Vancouver to Gardens
DESCRIPTION:Gardens of Gethsemani Catholic Cemetery and Columbus Homes are sponsoring a bus ride from Vancouver to Gardens of Gethsemani in Surrey. The bus will depart from St. Patrick’s Parish on Main Street at 12 p.m. and will be back at St. Patrick’s around 3:30 p.m. To secure a spot please register for free: \nClick here to register
URL:https://rccav.org/event/bus-service-from-vancouver-to-gardens-2-7-2/2026-10-31/
LOCATION:St. Patrick’s Parish Vancouver parking lot\, 2881 Main St.\, Vancouver\, British Columbia\, V5T 3G1\, Canada
ATTACH;FMTTYPE=image/jpeg:https://rccav.org/wp-content/uploads/2025/12/Gethsemani-0405-5-scaled.jpg
END:VEVENT
BEGIN:VEVENT
DTSTART;TZID=America/Vancouver:20261128T120000
DTEND;TZID=America/Vancouver:20261128T153000
DTSTAMP:20260421T062804
CREATED:20251209T213210Z
LAST-MODIFIED:20260306T194325Z
UID:10001757-1795867200-1795879800@rccav.org
SUMMARY:Bus Service from Vancouver to Gardens
DESCRIPTION:Gardens of Gethsemani Catholic Cemetery and Columbus Homes are sponsoring a bus ride from Vancouver to Gardens of Gethsemani in Surrey. The bus will depart from St. Patrick’s Parish on Main Street at 12 p.m. and will be back at St. Patrick’s around 3:30 p.m. To secure a spot please register for free: \nClick here to register
URL:https://rccav.org/event/bus-service-from-vancouver-to-gardens-2-7-2/2026-11-28/
LOCATION:St. Patrick’s Parish Vancouver parking lot\, 2881 Main St.\, Vancouver\, British Columbia\, V5T 3G1\, Canada
ATTACH;FMTTYPE=image/jpeg:https://rccav.org/wp-content/uploads/2025/12/Gethsemani-0405-5-scaled.jpg
END:VEVENT
BEGIN:VEVENT
DTSTART;TZID=America/Vancouver:20261226T120000
DTEND;TZID=America/Vancouver:20261226T153000
DTSTAMP:20260421T062804
CREATED:20251209T213210Z
LAST-MODIFIED:20260306T194325Z
UID:10001758-1798286400-1798299000@rccav.org
SUMMARY:Bus Service from Vancouver to Gardens
DESCRIPTION:Gardens of Gethsemani Catholic Cemetery and Columbus Homes are sponsoring a bus ride from Vancouver to Gardens of Gethsemani in Surrey. The bus will depart from St. Patrick’s Parish on Main Street at 12 p.m. and will be back at St. Patrick’s around 3:30 p.m. To secure a spot please register for free: \nClick here to register
URL:https://rccav.org/event/bus-service-from-vancouver-to-gardens-2-7-2/2026-12-26/
LOCATION:St. Patrick’s Parish Vancouver parking lot\, 2881 Main St.\, Vancouver\, British Columbia\, V5T 3G1\, Canada
ATTACH;FMTTYPE=image/jpeg:https://rccav.org/wp-content/uploads/2025/12/Gethsemani-0405-5-scaled.jpg
END:VEVENT
BEGIN:VEVENT
DTSTART;TZID=America/Vancouver:20270130T120000
DTEND;TZID=America/Vancouver:20270130T153000
DTSTAMP:20260421T062804
CREATED:20251209T213210Z
LAST-MODIFIED:20260306T194325Z
UID:10001759-1801310400-1801323000@rccav.org
SUMMARY:Bus Service from Vancouver to Gardens
DESCRIPTION:Gardens of Gethsemani Catholic Cemetery and Columbus Homes are sponsoring a bus ride from Vancouver to Gardens of Gethsemani in Surrey. The bus will depart from St. Patrick’s Parish on Main Street at 12 p.m. and will be back at St. Patrick’s around 3:30 p.m. To secure a spot please register for free: \nClick here to register
URL:https://rccav.org/event/bus-service-from-vancouver-to-gardens-2-7-2/2027-01-30/
LOCATION:St. Patrick’s Parish Vancouver parking lot\, 2881 Main St.\, Vancouver\, British Columbia\, V5T 3G1\, Canada
ATTACH;FMTTYPE=image/jpeg:https://rccav.org/wp-content/uploads/2025/12/Gethsemani-0405-5-scaled.jpg
END:VEVENT
BEGIN:VEVENT
DTSTART;TZID=America/Vancouver:20270227T120000
DTEND;TZID=America/Vancouver:20270227T153000
DTSTAMP:20260421T062804
CREATED:20251209T213210Z
LAST-MODIFIED:20260306T194325Z
UID:10001760-1803729600-1803742200@rccav.org
SUMMARY:Bus Service from Vancouver to Gardens
DESCRIPTION:Gardens of Gethsemani Catholic Cemetery and Columbus Homes are sponsoring a bus ride from Vancouver to Gardens of Gethsemani in Surrey. The bus will depart from St. Patrick’s Parish on Main Street at 12 p.m. and will be back at St. Patrick’s around 3:30 p.m. To secure a spot please register for free: \nClick here to register
URL:https://rccav.org/event/bus-service-from-vancouver-to-gardens-2-7-2/2027-02-27/
LOCATION:St. Patrick’s Parish Vancouver parking lot\, 2881 Main St.\, Vancouver\, British Columbia\, V5T 3G1\, Canada
ATTACH;FMTTYPE=image/jpeg:https://rccav.org/wp-content/uploads/2025/12/Gethsemani-0405-5-scaled.jpg
END:VEVENT
BEGIN:VEVENT
DTSTART;TZID=America/Vancouver:20270327T120000
DTEND;TZID=America/Vancouver:20270327T153000
DTSTAMP:20260421T062804
CREATED:20251209T213210Z
LAST-MODIFIED:20260306T194325Z
UID:10001761-1806148800-1806161400@rccav.org
SUMMARY:Bus Service from Vancouver to Gardens
DESCRIPTION:Gardens of Gethsemani Catholic Cemetery and Columbus Homes are sponsoring a bus ride from Vancouver to Gardens of Gethsemani in Surrey. The bus will depart from St. Patrick’s Parish on Main Street at 12 p.m. and will be back at St. Patrick’s around 3:30 p.m. To secure a spot please register for free: \nClick here to register
URL:https://rccav.org/event/bus-service-from-vancouver-to-gardens-2-7-2/2027-03-27/
LOCATION:St. Patrick’s Parish Vancouver parking lot\, 2881 Main St.\, Vancouver\, British Columbia\, V5T 3G1\, Canada
ATTACH;FMTTYPE=image/jpeg:https://rccav.org/wp-content/uploads/2025/12/Gethsemani-0405-5-scaled.jpg
END:VEVENT
BEGIN:VEVENT
DTSTART;TZID=America/Vancouver:20270424T120000
DTEND;TZID=America/Vancouver:20270424T153000
DTSTAMP:20260421T062804
CREATED:20251209T213210Z
LAST-MODIFIED:20260306T194325Z
UID:10001762-1808568000-1808580600@rccav.org
SUMMARY:Bus Service from Vancouver to Gardens
DESCRIPTION:Gardens of Gethsemani Catholic Cemetery and Columbus Homes are sponsoring a bus ride from Vancouver to Gardens of Gethsemani in Surrey. The bus will depart from St. Patrick’s Parish on Main Street at 12 p.m. and will be back at St. Patrick’s around 3:30 p.m. To secure a spot please register for free: \nClick here to register
URL:https://rccav.org/event/bus-service-from-vancouver-to-gardens-2-7-2/2027-04-24/
LOCATION:St. Patrick’s Parish Vancouver parking lot\, 2881 Main St.\, Vancouver\, British Columbia\, V5T 3G1\, Canada
ATTACH;FMTTYPE=image/jpeg:https://rccav.org/wp-content/uploads/2025/12/Gethsemani-0405-5-scaled.jpg
END:VEVENT
BEGIN:VEVENT
DTSTART;TZID=America/Vancouver:20270529T120000
DTEND;TZID=America/Vancouver:20270529T153000
DTSTAMP:20260421T062804
CREATED:20251209T213210Z
LAST-MODIFIED:20260306T194325Z
UID:10001763-1811592000-1811604600@rccav.org
SUMMARY:Bus Service from Vancouver to Gardens
DESCRIPTION:Gardens of Gethsemani Catholic Cemetery and Columbus Homes are sponsoring a bus ride from Vancouver to Gardens of Gethsemani in Surrey. The bus will depart from St. Patrick’s Parish on Main Street at 12 p.m. and will be back at St. Patrick’s around 3:30 p.m. To secure a spot please register for free: \nClick here to register
URL:https://rccav.org/event/bus-service-from-vancouver-to-gardens-2-7-2/2027-05-29/
LOCATION:St. Patrick’s Parish Vancouver parking lot\, 2881 Main St.\, Vancouver\, British Columbia\, V5T 3G1\, Canada
ATTACH;FMTTYPE=image/jpeg:https://rccav.org/wp-content/uploads/2025/12/Gethsemani-0405-5-scaled.jpg
END:VEVENT
BEGIN:VEVENT
DTSTART;TZID=America/Vancouver:20270626T120000
DTEND;TZID=America/Vancouver:20270626T153000
DTSTAMP:20260421T062804
CREATED:20251209T213210Z
LAST-MODIFIED:20260306T194325Z
UID:10001764-1814011200-1814023800@rccav.org
SUMMARY:Bus Service from Vancouver to Gardens
DESCRIPTION:Gardens of Gethsemani Catholic Cemetery and Columbus Homes are sponsoring a bus ride from Vancouver to Gardens of Gethsemani in Surrey. The bus will depart from St. Patrick’s Parish on Main Street at 12 p.m. and will be back at St. Patrick’s around 3:30 p.m. To secure a spot please register for free: \nClick here to register
URL:https://rccav.org/event/bus-service-from-vancouver-to-gardens-2-7-2/2027-06-26/
LOCATION:St. Patrick’s Parish Vancouver parking lot\, 2881 Main St.\, Vancouver\, British Columbia\, V5T 3G1\, Canada
ATTACH;FMTTYPE=image/jpeg:https://rccav.org/wp-content/uploads/2025/12/Gethsemani-0405-5-scaled.jpg
END:VEVENT
BEGIN:VEVENT
DTSTART;TZID=America/Vancouver:20270731T120000
DTEND;TZID=America/Vancouver:20270731T153000
DTSTAMP:20260421T062804
CREATED:20251209T213210Z
LAST-MODIFIED:20260306T194325Z
UID:10001765-1817035200-1817047800@rccav.org
SUMMARY:Bus Service from Vancouver to Gardens
DESCRIPTION:Gardens of Gethsemani Catholic Cemetery and Columbus Homes are sponsoring a bus ride from Vancouver to Gardens of Gethsemani in Surrey. The bus will depart from St. Patrick’s Parish on Main Street at 12 p.m. and will be back at St. Patrick’s around 3:30 p.m. To secure a spot please register for free: \nClick here to register
URL:https://rccav.org/event/bus-service-from-vancouver-to-gardens-2-7-2/2027-07-31/
LOCATION:St. Patrick’s Parish Vancouver parking lot\, 2881 Main St.\, Vancouver\, British Columbia\, V5T 3G1\, Canada
ATTACH;FMTTYPE=image/jpeg:https://rccav.org/wp-content/uploads/2025/12/Gethsemani-0405-5-scaled.jpg
END:VEVENT
BEGIN:VEVENT
DTSTART;TZID=America/Vancouver:20270828T120000
DTEND;TZID=America/Vancouver:20270828T153000
DTSTAMP:20260421T062804
CREATED:20251209T213210Z
LAST-MODIFIED:20260306T194325Z
UID:10001766-1819454400-1819467000@rccav.org
SUMMARY:Bus Service from Vancouver to Gardens
DESCRIPTION:Gardens of Gethsemani Catholic Cemetery and Columbus Homes are sponsoring a bus ride from Vancouver to Gardens of Gethsemani in Surrey. The bus will depart from St. Patrick’s Parish on Main Street at 12 p.m. and will be back at St. Patrick’s around 3:30 p.m. To secure a spot please register for free: \nClick here to register
URL:https://rccav.org/event/bus-service-from-vancouver-to-gardens-2-7-2/2027-08-28/
LOCATION:St. Patrick’s Parish Vancouver parking lot\, 2881 Main St.\, Vancouver\, British Columbia\, V5T 3G1\, Canada
ATTACH;FMTTYPE=image/jpeg:https://rccav.org/wp-content/uploads/2025/12/Gethsemani-0405-5-scaled.jpg
END:VEVENT
BEGIN:VEVENT
DTSTART;TZID=America/Vancouver:20270925T120000
DTEND;TZID=America/Vancouver:20270925T153000
DTSTAMP:20260421T062804
CREATED:20251209T213210Z
LAST-MODIFIED:20260306T194325Z
UID:10001767-1821873600-1821886200@rccav.org
SUMMARY:Bus Service from Vancouver to Gardens
DESCRIPTION:Gardens of Gethsemani Catholic Cemetery and Columbus Homes are sponsoring a bus ride from Vancouver to Gardens of Gethsemani in Surrey. The bus will depart from St. Patrick’s Parish on Main Street at 12 p.m. and will be back at St. Patrick’s around 3:30 p.m. To secure a spot please register for free: \nClick here to register
URL:https://rccav.org/event/bus-service-from-vancouver-to-gardens-2-7-2/2027-09-25/
LOCATION:St. Patrick’s Parish Vancouver parking lot\, 2881 Main St.\, Vancouver\, British Columbia\, V5T 3G1\, Canada
ATTACH;FMTTYPE=image/jpeg:https://rccav.org/wp-content/uploads/2025/12/Gethsemani-0405-5-scaled.jpg
END:VEVENT
BEGIN:VEVENT
DTSTART;TZID=America/Vancouver:20271030T120000
DTEND;TZID=America/Vancouver:20271030T153000
DTSTAMP:20260421T062804
CREATED:20251209T213210Z
LAST-MODIFIED:20260306T194325Z
UID:10001768-1824897600-1824910200@rccav.org
SUMMARY:Bus Service from Vancouver to Gardens
DESCRIPTION:Gardens of Gethsemani Catholic Cemetery and Columbus Homes are sponsoring a bus ride from Vancouver to Gardens of Gethsemani in Surrey. The bus will depart from St. Patrick’s Parish on Main Street at 12 p.m. and will be back at St. Patrick’s around 3:30 p.m. To secure a spot please register for free: \nClick here to register
URL:https://rccav.org/event/bus-service-from-vancouver-to-gardens-2-7-2/2027-10-30/
LOCATION:St. Patrick’s Parish Vancouver parking lot\, 2881 Main St.\, Vancouver\, British Columbia\, V5T 3G1\, Canada
ATTACH;FMTTYPE=image/jpeg:https://rccav.org/wp-content/uploads/2025/12/Gethsemani-0405-5-scaled.jpg
END:VEVENT
BEGIN:VEVENT
DTSTART;TZID=America/Vancouver:20271127T120000
DTEND;TZID=America/Vancouver:20271127T153000
DTSTAMP:20260421T062804
CREATED:20251209T213210Z
LAST-MODIFIED:20260306T194325Z
UID:10001769-1827316800-1827329400@rccav.org
SUMMARY:Bus Service from Vancouver to Gardens
DESCRIPTION:Gardens of Gethsemani Catholic Cemetery and Columbus Homes are sponsoring a bus ride from Vancouver to Gardens of Gethsemani in Surrey. The bus will depart from St. Patrick’s Parish on Main Street at 12 p.m. and will be back at St. Patrick’s around 3:30 p.m. To secure a spot please register for free: \nClick here to register
URL:https://rccav.org/event/bus-service-from-vancouver-to-gardens-2-7-2/2027-11-27/
LOCATION:St. Patrick’s Parish Vancouver parking lot\, 2881 Main St.\, Vancouver\, British Columbia\, V5T 3G1\, Canada
ATTACH;FMTTYPE=image/jpeg:https://rccav.org/wp-content/uploads/2025/12/Gethsemani-0405-5-scaled.jpg
END:VEVENT
BEGIN:VEVENT
DTSTART;TZID=America/Vancouver:20271225T120000
DTEND;TZID=America/Vancouver:20271225T153000
DTSTAMP:20260421T062804
CREATED:20251209T213210Z
LAST-MODIFIED:20260306T194325Z
UID:10001770-1829736000-1829748600@rccav.org
SUMMARY:Bus Service from Vancouver to Gardens
DESCRIPTION:Gardens of Gethsemani Catholic Cemetery and Columbus Homes are sponsoring a bus ride from Vancouver to Gardens of Gethsemani in Surrey. The bus will depart from St. Patrick’s Parish on Main Street at 12 p.m. and will be back at St. Patrick’s around 3:30 p.m. To secure a spot please register for free: \nClick here to register
URL:https://rccav.org/event/bus-service-from-vancouver-to-gardens-2-7-2/2027-12-25/
LOCATION:St. Patrick’s Parish Vancouver parking lot\, 2881 Main St.\, Vancouver\, British Columbia\, V5T 3G1\, Canada
ATTACH;FMTTYPE=image/jpeg:https://rccav.org/wp-content/uploads/2025/12/Gethsemani-0405-5-scaled.jpg
END:VEVENT
BEGIN:VEVENT
DTSTART;TZID=America/Vancouver:20280129T120000
DTEND;TZID=America/Vancouver:20280129T153000
DTSTAMP:20260421T062804
CREATED:20251209T213210Z
LAST-MODIFIED:20260306T194325Z
UID:10001771-1832760000-1832772600@rccav.org
SUMMARY:Bus Service from Vancouver to Gardens
DESCRIPTION:Gardens of Gethsemani Catholic Cemetery and Columbus Homes are sponsoring a bus ride from Vancouver to Gardens of Gethsemani in Surrey. The bus will depart from St. Patrick’s Parish on Main Street at 12 p.m. and will be back at St. Patrick’s around 3:30 p.m. To secure a spot please register for free: \nClick here to register
URL:https://rccav.org/event/bus-service-from-vancouver-to-gardens-2-7-2/2028-01-29/
LOCATION:St. Patrick’s Parish Vancouver parking lot\, 2881 Main St.\, Vancouver\, British Columbia\, V5T 3G1\, Canada
ATTACH;FMTTYPE=image/jpeg:https://rccav.org/wp-content/uploads/2025/12/Gethsemani-0405-5-scaled.jpg
END:VEVENT
BEGIN:VEVENT
DTSTART;TZID=America/Vancouver:20280226T120000
DTEND;TZID=America/Vancouver:20280226T153000
DTSTAMP:20260421T062804
CREATED:20251209T213210Z
LAST-MODIFIED:20260306T194325Z
UID:10001772-1835179200-1835191800@rccav.org
SUMMARY:Bus Service from Vancouver to Gardens
DESCRIPTION:Gardens of Gethsemani Catholic Cemetery and Columbus Homes are sponsoring a bus ride from Vancouver to Gardens of Gethsemani in Surrey. The bus will depart from St. Patrick’s Parish on Main Street at 12 p.m. and will be back at St. Patrick’s around 3:30 p.m. To secure a spot please register for free: \nClick here to register
URL:https://rccav.org/event/bus-service-from-vancouver-to-gardens-2-7-2/2028-02-26/
LOCATION:St. Patrick’s Parish Vancouver parking lot\, 2881 Main St.\, Vancouver\, British Columbia\, V5T 3G1\, Canada
ATTACH;FMTTYPE=image/jpeg:https://rccav.org/wp-content/uploads/2025/12/Gethsemani-0405-5-scaled.jpg
END:VEVENT
BEGIN:VEVENT
DTSTART;TZID=America/Vancouver:20280325T120000
DTEND;TZID=America/Vancouver:20280325T153000
DTSTAMP:20260421T062804
CREATED:20251209T213210Z
LAST-MODIFIED:20260306T194325Z
UID:10001773-1837598400-1837611000@rccav.org
SUMMARY:Bus Service from Vancouver to Gardens
DESCRIPTION:Gardens of Gethsemani Catholic Cemetery and Columbus Homes are sponsoring a bus ride from Vancouver to Gardens of Gethsemani in Surrey. The bus will depart from St. Patrick’s Parish on Main Street at 12 p.m. and will be back at St. Patrick’s around 3:30 p.m. To secure a spot please register for free: \nClick here to register
URL:https://rccav.org/event/bus-service-from-vancouver-to-gardens-2-7-2/2028-03-25/
LOCATION:St. Patrick’s Parish Vancouver parking lot\, 2881 Main St.\, Vancouver\, British Columbia\, V5T 3G1\, Canada
ATTACH;FMTTYPE=image/jpeg:https://rccav.org/wp-content/uploads/2025/12/Gethsemani-0405-5-scaled.jpg
END:VEVENT
BEGIN:VEVENT
DTSTART;TZID=America/Vancouver:20280429T120000
DTEND;TZID=America/Vancouver:20280429T153000
DTSTAMP:20260421T062804
CREATED:20251209T213210Z
LAST-MODIFIED:20260306T194325Z
UID:10001774-1840622400-1840635000@rccav.org
SUMMARY:Bus Service from Vancouver to Gardens
DESCRIPTION:Gardens of Gethsemani Catholic Cemetery and Columbus Homes are sponsoring a bus ride from Vancouver to Gardens of Gethsemani in Surrey. The bus will depart from St. Patrick’s Parish on Main Street at 12 p.m. and will be back at St. Patrick’s around 3:30 p.m. To secure a spot please register for free: \nClick here to register
URL:https://rccav.org/event/bus-service-from-vancouver-to-gardens-2-7-2/2028-04-29/
LOCATION:St. Patrick’s Parish Vancouver parking lot\, 2881 Main St.\, Vancouver\, British Columbia\, V5T 3G1\, Canada
ATTACH;FMTTYPE=image/jpeg:https://rccav.org/wp-content/uploads/2025/12/Gethsemani-0405-5-scaled.jpg
END:VEVENT
BEGIN:VEVENT
DTSTART;TZID=America/Vancouver:20280527T120000
DTEND;TZID=America/Vancouver:20280527T153000
DTSTAMP:20260421T062804
CREATED:20251209T213210Z
LAST-MODIFIED:20260306T194325Z
UID:10001775-1843041600-1843054200@rccav.org
SUMMARY:Bus Service from Vancouver to Gardens
DESCRIPTION:Gardens of Gethsemani Catholic Cemetery and Columbus Homes are sponsoring a bus ride from Vancouver to Gardens of Gethsemani in Surrey. The bus will depart from St. Patrick’s Parish on Main Street at 12 p.m. and will be back at St. Patrick’s around 3:30 p.m. To secure a spot please register for free: \nClick here to register
URL:https://rccav.org/event/bus-service-from-vancouver-to-gardens-2-7-2/2028-05-27/
LOCATION:St. Patrick’s Parish Vancouver parking lot\, 2881 Main St.\, Vancouver\, British Columbia\, V5T 3G1\, Canada
ATTACH;FMTTYPE=image/jpeg:https://rccav.org/wp-content/uploads/2025/12/Gethsemani-0405-5-scaled.jpg
END:VEVENT
BEGIN:VEVENT
DTSTART;TZID=America/Vancouver:20280624T120000
DTEND;TZID=America/Vancouver:20280624T153000
DTSTAMP:20260421T062804
CREATED:20251209T213210Z
LAST-MODIFIED:20260306T194325Z
UID:10001776-1845460800-1845473400@rccav.org
SUMMARY:Bus Service from Vancouver to Gardens
DESCRIPTION:Gardens of Gethsemani Catholic Cemetery and Columbus Homes are sponsoring a bus ride from Vancouver to Gardens of Gethsemani in Surrey. The bus will depart from St. Patrick’s Parish on Main Street at 12 p.m. and will be back at St. Patrick’s around 3:30 p.m. To secure a spot please register for free: \nClick here to register
URL:https://rccav.org/event/bus-service-from-vancouver-to-gardens-2-7-2/2028-06-24/
LOCATION:St. Patrick’s Parish Vancouver parking lot\, 2881 Main St.\, Vancouver\, British Columbia\, V5T 3G1\, Canada
ATTACH;FMTTYPE=image/jpeg:https://rccav.org/wp-content/uploads/2025/12/Gethsemani-0405-5-scaled.jpg
END:VEVENT
BEGIN:VEVENT
DTSTART;TZID=America/Vancouver:20280729T120000
DTEND;TZID=America/Vancouver:20280729T153000
DTSTAMP:20260421T062804
CREATED:20251209T213210Z
LAST-MODIFIED:20260306T194325Z
UID:10001777-1848484800-1848497400@rccav.org
SUMMARY:Bus Service from Vancouver to Gardens
DESCRIPTION:Gardens of Gethsemani Catholic Cemetery and Columbus Homes are sponsoring a bus ride from Vancouver to Gardens of Gethsemani in Surrey. The bus will depart from St. Patrick’s Parish on Main Street at 12 p.m. and will be back at St. Patrick’s around 3:30 p.m. To secure a spot please register for free: \nClick here to register
URL:https://rccav.org/event/bus-service-from-vancouver-to-gardens-2-7-2/2028-07-29/
LOCATION:St. Patrick’s Parish Vancouver parking lot\, 2881 Main St.\, Vancouver\, British Columbia\, V5T 3G1\, Canada
ATTACH;FMTTYPE=image/jpeg:https://rccav.org/wp-content/uploads/2025/12/Gethsemani-0405-5-scaled.jpg
END:VEVENT
BEGIN:VEVENT
DTSTART;TZID=America/Vancouver:20280826T120000
DTEND;TZID=America/Vancouver:20280826T153000
DTSTAMP:20260421T062804
CREATED:20251209T213210Z
LAST-MODIFIED:20260306T194325Z
UID:10001778-1850904000-1850916600@rccav.org
SUMMARY:Bus Service from Vancouver to Gardens
DESCRIPTION:Gardens of Gethsemani Catholic Cemetery and Columbus Homes are sponsoring a bus ride from Vancouver to Gardens of Gethsemani in Surrey. The bus will depart from St. Patrick’s Parish on Main Street at 12 p.m. and will be back at St. Patrick’s around 3:30 p.m. To secure a spot please register for free: \nClick here to register
URL:https://rccav.org/event/bus-service-from-vancouver-to-gardens-2-7-2/2028-08-26/
LOCATION:St. Patrick’s Parish Vancouver parking lot\, 2881 Main St.\, Vancouver\, British Columbia\, V5T 3G1\, Canada
ATTACH;FMTTYPE=image/jpeg:https://rccav.org/wp-content/uploads/2025/12/Gethsemani-0405-5-scaled.jpg
END:VEVENT
BEGIN:VEVENT
DTSTART;TZID=America/Vancouver:20280930T120000
DTEND;TZID=America/Vancouver:20280930T153000
DTSTAMP:20260421T062804
CREATED:20251209T213210Z
LAST-MODIFIED:20260306T194325Z
UID:10001779-1853928000-1853940600@rccav.org
SUMMARY:Bus Service from Vancouver to Gardens
DESCRIPTION:Gardens of Gethsemani Catholic Cemetery and Columbus Homes are sponsoring a bus ride from Vancouver to Gardens of Gethsemani in Surrey. The bus will depart from St. Patrick’s Parish on Main Street at 12 p.m. and will be back at St. Patrick’s around 3:30 p.m. To secure a spot please register for free: \nClick here to register
URL:https://rccav.org/event/bus-service-from-vancouver-to-gardens-2-7-2/2028-09-30/
LOCATION:St. Patrick’s Parish Vancouver parking lot\, 2881 Main St.\, Vancouver\, British Columbia\, V5T 3G1\, Canada
ATTACH;FMTTYPE=image/jpeg:https://rccav.org/wp-content/uploads/2025/12/Gethsemani-0405-5-scaled.jpg
END:VEVENT
END:VCALENDAR