BEGIN:VCALENDAR
VERSION:2.0
PRODID:-//Gardens of Gethsemani - ECPv6.15.12.2//NONSGML v1.0//EN
CALSCALE:GREGORIAN
METHOD:PUBLISH
X-WR-CALNAME:Gardens of Gethsemani
X-ORIGINAL-URL:https://rccav.org
X-WR-CALDESC:Events for Gardens of Gethsemani
REFRESH-INTERVAL;VALUE=DURATION:PT1H
X-Robots-Tag:noindex
X-PUBLISHED-TTL:PT1H
BEGIN:VTIMEZONE
TZID:America/Vancouver
BEGIN:DAYLIGHT
TZOFFSETFROM:-0800
TZOFFSETTO:-0700
TZNAME:PDT
DTSTART:20280312T100000
END:DAYLIGHT
BEGIN:STANDARD
TZOFFSETFROM:-0700
TZOFFSETTO:-0800
TZNAME:PST
DTSTART:20281105T090000
END:STANDARD
BEGIN:DAYLIGHT
TZOFFSETFROM:-0800
TZOFFSETTO:-0700
TZNAME:PDT
DTSTART:20290311T100000
END:DAYLIGHT
BEGIN:STANDARD
TZOFFSETFROM:-0700
TZOFFSETTO:-0800
TZNAME:PST
DTSTART:20291104T090000
END:STANDARD
BEGIN:DAYLIGHT
TZOFFSETFROM:-0800
TZOFFSETTO:-0700
TZNAME:PDT
DTSTART:20300310T100000
END:DAYLIGHT
BEGIN:STANDARD
TZOFFSETFROM:-0700
TZOFFSETTO:-0800
TZNAME:PST
DTSTART:20301103T090000
END:STANDARD
BEGIN:DAYLIGHT
TZOFFSETFROM:-0800
TZOFFSETTO:-0700
TZNAME:PDT
DTSTART:20310309T100000
END:DAYLIGHT
BEGIN:STANDARD
TZOFFSETFROM:-0700
TZOFFSETTO:-0800
TZNAME:PST
DTSTART:20311102T090000
END:STANDARD
BEGIN:DAYLIGHT
TZOFFSETFROM:-0800
TZOFFSETTO:-0700
TZNAME:PDT
DTSTART:20320314T100000
END:DAYLIGHT
BEGIN:STANDARD
TZOFFSETFROM:-0700
TZOFFSETTO:-0800
TZNAME:PST
DTSTART:20321107T090000
END:STANDARD
END:VTIMEZONE
BEGIN:VEVENT
DTSTART;TZID=America/Vancouver:20290428T120000
DTEND;TZID=America/Vancouver:20290428T153000
DTSTAMP:20260421T044829
CREATED:20251209T213210Z
LAST-MODIFIED:20260306T194325Z
UID:10001786-1872072000-1872084600@rccav.org
SUMMARY:Bus Service from Vancouver to Gardens
DESCRIPTION:Gardens of Gethsemani Catholic Cemetery and Columbus Homes are sponsoring a bus ride from Vancouver to Gardens of Gethsemani in Surrey. The bus will depart from St. Patrick’s Parish on Main Street at 12 p.m. and will be back at St. Patrick’s around 3:30 p.m. To secure a spot please register for free: \nClick here to register
URL:https://rccav.org/event/bus-service-from-vancouver-to-gardens-2-7-2/2029-04-28/
LOCATION:St. Patrick’s Parish Vancouver parking lot\, 2881 Main St.\, Vancouver\, British Columbia\, V5T 3G1\, Canada
ATTACH;FMTTYPE=image/jpeg:https://rccav.org/wp-content/uploads/2025/12/Gethsemani-0405-5-scaled.jpg
END:VEVENT
BEGIN:VEVENT
DTSTART;TZID=America/Vancouver:20290526T120000
DTEND;TZID=America/Vancouver:20290526T153000
DTSTAMP:20260421T044829
CREATED:20251209T213210Z
LAST-MODIFIED:20260306T194325Z
UID:10001787-1874491200-1874503800@rccav.org
SUMMARY:Bus Service from Vancouver to Gardens
DESCRIPTION:Gardens of Gethsemani Catholic Cemetery and Columbus Homes are sponsoring a bus ride from Vancouver to Gardens of Gethsemani in Surrey. The bus will depart from St. Patrick’s Parish on Main Street at 12 p.m. and will be back at St. Patrick’s around 3:30 p.m. To secure a spot please register for free: \nClick here to register
URL:https://rccav.org/event/bus-service-from-vancouver-to-gardens-2-7-2/2029-05-26/
LOCATION:St. Patrick’s Parish Vancouver parking lot\, 2881 Main St.\, Vancouver\, British Columbia\, V5T 3G1\, Canada
ATTACH;FMTTYPE=image/jpeg:https://rccav.org/wp-content/uploads/2025/12/Gethsemani-0405-5-scaled.jpg
END:VEVENT
BEGIN:VEVENT
DTSTART;TZID=America/Vancouver:20290630T120000
DTEND;TZID=America/Vancouver:20290630T153000
DTSTAMP:20260421T044829
CREATED:20251209T213210Z
LAST-MODIFIED:20260306T194325Z
UID:10001788-1877515200-1877527800@rccav.org
SUMMARY:Bus Service from Vancouver to Gardens
DESCRIPTION:Gardens of Gethsemani Catholic Cemetery and Columbus Homes are sponsoring a bus ride from Vancouver to Gardens of Gethsemani in Surrey. The bus will depart from St. Patrick’s Parish on Main Street at 12 p.m. and will be back at St. Patrick’s around 3:30 p.m. To secure a spot please register for free: \nClick here to register
URL:https://rccav.org/event/bus-service-from-vancouver-to-gardens-2-7-2/2029-06-30/
LOCATION:St. Patrick’s Parish Vancouver parking lot\, 2881 Main St.\, Vancouver\, British Columbia\, V5T 3G1\, Canada
ATTACH;FMTTYPE=image/jpeg:https://rccav.org/wp-content/uploads/2025/12/Gethsemani-0405-5-scaled.jpg
END:VEVENT
BEGIN:VEVENT
DTSTART;TZID=America/Vancouver:20290728T120000
DTEND;TZID=America/Vancouver:20290728T153000
DTSTAMP:20260421T044829
CREATED:20251209T213210Z
LAST-MODIFIED:20260306T194325Z
UID:10001789-1879934400-1879947000@rccav.org
SUMMARY:Bus Service from Vancouver to Gardens
DESCRIPTION:Gardens of Gethsemani Catholic Cemetery and Columbus Homes are sponsoring a bus ride from Vancouver to Gardens of Gethsemani in Surrey. The bus will depart from St. Patrick’s Parish on Main Street at 12 p.m. and will be back at St. Patrick’s around 3:30 p.m. To secure a spot please register for free: \nClick here to register
URL:https://rccav.org/event/bus-service-from-vancouver-to-gardens-2-7-2/2029-07-28/
LOCATION:St. Patrick’s Parish Vancouver parking lot\, 2881 Main St.\, Vancouver\, British Columbia\, V5T 3G1\, Canada
ATTACH;FMTTYPE=image/jpeg:https://rccav.org/wp-content/uploads/2025/12/Gethsemani-0405-5-scaled.jpg
END:VEVENT
BEGIN:VEVENT
DTSTART;TZID=America/Vancouver:20290825T120000
DTEND;TZID=America/Vancouver:20290825T153000
DTSTAMP:20260421T044829
CREATED:20251209T213210Z
LAST-MODIFIED:20260306T194325Z
UID:10001790-1882353600-1882366200@rccav.org
SUMMARY:Bus Service from Vancouver to Gardens
DESCRIPTION:Gardens of Gethsemani Catholic Cemetery and Columbus Homes are sponsoring a bus ride from Vancouver to Gardens of Gethsemani in Surrey. The bus will depart from St. Patrick’s Parish on Main Street at 12 p.m. and will be back at St. Patrick’s around 3:30 p.m. To secure a spot please register for free: \nClick here to register
URL:https://rccav.org/event/bus-service-from-vancouver-to-gardens-2-7-2/2029-08-25/
LOCATION:St. Patrick’s Parish Vancouver parking lot\, 2881 Main St.\, Vancouver\, British Columbia\, V5T 3G1\, Canada
ATTACH;FMTTYPE=image/jpeg:https://rccav.org/wp-content/uploads/2025/12/Gethsemani-0405-5-scaled.jpg
END:VEVENT
BEGIN:VEVENT
DTSTART;TZID=America/Vancouver:20290929T120000
DTEND;TZID=America/Vancouver:20290929T153000
DTSTAMP:20260421T044829
CREATED:20251209T213210Z
LAST-MODIFIED:20260306T194325Z
UID:10001791-1885377600-1885390200@rccav.org
SUMMARY:Bus Service from Vancouver to Gardens
DESCRIPTION:Gardens of Gethsemani Catholic Cemetery and Columbus Homes are sponsoring a bus ride from Vancouver to Gardens of Gethsemani in Surrey. The bus will depart from St. Patrick’s Parish on Main Street at 12 p.m. and will be back at St. Patrick’s around 3:30 p.m. To secure a spot please register for free: \nClick here to register
URL:https://rccav.org/event/bus-service-from-vancouver-to-gardens-2-7-2/2029-09-29/
LOCATION:St. Patrick’s Parish Vancouver parking lot\, 2881 Main St.\, Vancouver\, British Columbia\, V5T 3G1\, Canada
ATTACH;FMTTYPE=image/jpeg:https://rccav.org/wp-content/uploads/2025/12/Gethsemani-0405-5-scaled.jpg
END:VEVENT
BEGIN:VEVENT
DTSTART;TZID=America/Vancouver:20291027T120000
DTEND;TZID=America/Vancouver:20291027T153000
DTSTAMP:20260421T044829
CREATED:20251209T213210Z
LAST-MODIFIED:20260306T194325Z
UID:10001792-1887796800-1887809400@rccav.org
SUMMARY:Bus Service from Vancouver to Gardens
DESCRIPTION:Gardens of Gethsemani Catholic Cemetery and Columbus Homes are sponsoring a bus ride from Vancouver to Gardens of Gethsemani in Surrey. The bus will depart from St. Patrick’s Parish on Main Street at 12 p.m. and will be back at St. Patrick’s around 3:30 p.m. To secure a spot please register for free: \nClick here to register
URL:https://rccav.org/event/bus-service-from-vancouver-to-gardens-2-7-2/2029-10-27/
LOCATION:St. Patrick’s Parish Vancouver parking lot\, 2881 Main St.\, Vancouver\, British Columbia\, V5T 3G1\, Canada
ATTACH;FMTTYPE=image/jpeg:https://rccav.org/wp-content/uploads/2025/12/Gethsemani-0405-5-scaled.jpg
END:VEVENT
BEGIN:VEVENT
DTSTART;TZID=America/Vancouver:20291124T120000
DTEND;TZID=America/Vancouver:20291124T153000
DTSTAMP:20260421T044829
CREATED:20251209T213210Z
LAST-MODIFIED:20260306T194325Z
UID:10001793-1890216000-1890228600@rccav.org
SUMMARY:Bus Service from Vancouver to Gardens
DESCRIPTION:Gardens of Gethsemani Catholic Cemetery and Columbus Homes are sponsoring a bus ride from Vancouver to Gardens of Gethsemani in Surrey. The bus will depart from St. Patrick’s Parish on Main Street at 12 p.m. and will be back at St. Patrick’s around 3:30 p.m. To secure a spot please register for free: \nClick here to register
URL:https://rccav.org/event/bus-service-from-vancouver-to-gardens-2-7-2/2029-11-24/
LOCATION:St. Patrick’s Parish Vancouver parking lot\, 2881 Main St.\, Vancouver\, British Columbia\, V5T 3G1\, Canada
ATTACH;FMTTYPE=image/jpeg:https://rccav.org/wp-content/uploads/2025/12/Gethsemani-0405-5-scaled.jpg
END:VEVENT
BEGIN:VEVENT
DTSTART;TZID=America/Vancouver:20291229T120000
DTEND;TZID=America/Vancouver:20291229T153000
DTSTAMP:20260421T044829
CREATED:20251209T213210Z
LAST-MODIFIED:20260306T194325Z
UID:10001794-1893240000-1893252600@rccav.org
SUMMARY:Bus Service from Vancouver to Gardens
DESCRIPTION:Gardens of Gethsemani Catholic Cemetery and Columbus Homes are sponsoring a bus ride from Vancouver to Gardens of Gethsemani in Surrey. The bus will depart from St. Patrick’s Parish on Main Street at 12 p.m. and will be back at St. Patrick’s around 3:30 p.m. To secure a spot please register for free: \nClick here to register
URL:https://rccav.org/event/bus-service-from-vancouver-to-gardens-2-7-2/2029-12-29/
LOCATION:St. Patrick’s Parish Vancouver parking lot\, 2881 Main St.\, Vancouver\, British Columbia\, V5T 3G1\, Canada
ATTACH;FMTTYPE=image/jpeg:https://rccav.org/wp-content/uploads/2025/12/Gethsemani-0405-5-scaled.jpg
END:VEVENT
BEGIN:VEVENT
DTSTART;TZID=America/Vancouver:20300126T120000
DTEND;TZID=America/Vancouver:20300126T153000
DTSTAMP:20260421T044829
CREATED:20251209T213210Z
LAST-MODIFIED:20260306T194325Z
UID:10001795-1895659200-1895671800@rccav.org
SUMMARY:Bus Service from Vancouver to Gardens
DESCRIPTION:Gardens of Gethsemani Catholic Cemetery and Columbus Homes are sponsoring a bus ride from Vancouver to Gardens of Gethsemani in Surrey. The bus will depart from St. Patrick’s Parish on Main Street at 12 p.m. and will be back at St. Patrick’s around 3:30 p.m. To secure a spot please register for free: \nClick here to register
URL:https://rccav.org/event/bus-service-from-vancouver-to-gardens-2-7-2/2030-01-26/
LOCATION:St. Patrick’s Parish Vancouver parking lot\, 2881 Main St.\, Vancouver\, British Columbia\, V5T 3G1\, Canada
ATTACH;FMTTYPE=image/jpeg:https://rccav.org/wp-content/uploads/2025/12/Gethsemani-0405-5-scaled.jpg
END:VEVENT
BEGIN:VEVENT
DTSTART;TZID=America/Vancouver:20300223T120000
DTEND;TZID=America/Vancouver:20300223T153000
DTSTAMP:20260421T044829
CREATED:20251209T213210Z
LAST-MODIFIED:20260306T194325Z
UID:10001796-1898078400-1898091000@rccav.org
SUMMARY:Bus Service from Vancouver to Gardens
DESCRIPTION:Gardens of Gethsemani Catholic Cemetery and Columbus Homes are sponsoring a bus ride from Vancouver to Gardens of Gethsemani in Surrey. The bus will depart from St. Patrick’s Parish on Main Street at 12 p.m. and will be back at St. Patrick’s around 3:30 p.m. To secure a spot please register for free: \nClick here to register
URL:https://rccav.org/event/bus-service-from-vancouver-to-gardens-2-7-2/2030-02-23/
LOCATION:St. Patrick’s Parish Vancouver parking lot\, 2881 Main St.\, Vancouver\, British Columbia\, V5T 3G1\, Canada
ATTACH;FMTTYPE=image/jpeg:https://rccav.org/wp-content/uploads/2025/12/Gethsemani-0405-5-scaled.jpg
END:VEVENT
BEGIN:VEVENT
DTSTART;TZID=America/Vancouver:20300330T120000
DTEND;TZID=America/Vancouver:20300330T153000
DTSTAMP:20260421T044829
CREATED:20251209T213210Z
LAST-MODIFIED:20260306T194325Z
UID:10001797-1901102400-1901115000@rccav.org
SUMMARY:Bus Service from Vancouver to Gardens
DESCRIPTION:Gardens of Gethsemani Catholic Cemetery and Columbus Homes are sponsoring a bus ride from Vancouver to Gardens of Gethsemani in Surrey. The bus will depart from St. Patrick’s Parish on Main Street at 12 p.m. and will be back at St. Patrick’s around 3:30 p.m. To secure a spot please register for free: \nClick here to register
URL:https://rccav.org/event/bus-service-from-vancouver-to-gardens-2-7-2/2030-03-30/
LOCATION:St. Patrick’s Parish Vancouver parking lot\, 2881 Main St.\, Vancouver\, British Columbia\, V5T 3G1\, Canada
ATTACH;FMTTYPE=image/jpeg:https://rccav.org/wp-content/uploads/2025/12/Gethsemani-0405-5-scaled.jpg
END:VEVENT
BEGIN:VEVENT
DTSTART;TZID=America/Vancouver:20300427T120000
DTEND;TZID=America/Vancouver:20300427T153000
DTSTAMP:20260421T044829
CREATED:20251209T213210Z
LAST-MODIFIED:20260306T194325Z
UID:10001798-1903521600-1903534200@rccav.org
SUMMARY:Bus Service from Vancouver to Gardens
DESCRIPTION:Gardens of Gethsemani Catholic Cemetery and Columbus Homes are sponsoring a bus ride from Vancouver to Gardens of Gethsemani in Surrey. The bus will depart from St. Patrick’s Parish on Main Street at 12 p.m. and will be back at St. Patrick’s around 3:30 p.m. To secure a spot please register for free: \nClick here to register
URL:https://rccav.org/event/bus-service-from-vancouver-to-gardens-2-7-2/2030-04-27/
LOCATION:St. Patrick’s Parish Vancouver parking lot\, 2881 Main St.\, Vancouver\, British Columbia\, V5T 3G1\, Canada
ATTACH;FMTTYPE=image/jpeg:https://rccav.org/wp-content/uploads/2025/12/Gethsemani-0405-5-scaled.jpg
END:VEVENT
BEGIN:VEVENT
DTSTART;TZID=America/Vancouver:20300525T120000
DTEND;TZID=America/Vancouver:20300525T153000
DTSTAMP:20260421T044829
CREATED:20251209T213210Z
LAST-MODIFIED:20260306T194325Z
UID:10001799-1905940800-1905953400@rccav.org
SUMMARY:Bus Service from Vancouver to Gardens
DESCRIPTION:Gardens of Gethsemani Catholic Cemetery and Columbus Homes are sponsoring a bus ride from Vancouver to Gardens of Gethsemani in Surrey. The bus will depart from St. Patrick’s Parish on Main Street at 12 p.m. and will be back at St. Patrick’s around 3:30 p.m. To secure a spot please register for free: \nClick here to register
URL:https://rccav.org/event/bus-service-from-vancouver-to-gardens-2-7-2/2030-05-25/
LOCATION:St. Patrick’s Parish Vancouver parking lot\, 2881 Main St.\, Vancouver\, British Columbia\, V5T 3G1\, Canada
ATTACH;FMTTYPE=image/jpeg:https://rccav.org/wp-content/uploads/2025/12/Gethsemani-0405-5-scaled.jpg
END:VEVENT
BEGIN:VEVENT
DTSTART;TZID=America/Vancouver:20300629T120000
DTEND;TZID=America/Vancouver:20300629T153000
DTSTAMP:20260421T044829
CREATED:20251209T213210Z
LAST-MODIFIED:20260306T194325Z
UID:10001800-1908964800-1908977400@rccav.org
SUMMARY:Bus Service from Vancouver to Gardens
DESCRIPTION:Gardens of Gethsemani Catholic Cemetery and Columbus Homes are sponsoring a bus ride from Vancouver to Gardens of Gethsemani in Surrey. The bus will depart from St. Patrick’s Parish on Main Street at 12 p.m. and will be back at St. Patrick’s around 3:30 p.m. To secure a spot please register for free: \nClick here to register
URL:https://rccav.org/event/bus-service-from-vancouver-to-gardens-2-7-2/2030-06-29/
LOCATION:St. Patrick’s Parish Vancouver parking lot\, 2881 Main St.\, Vancouver\, British Columbia\, V5T 3G1\, Canada
ATTACH;FMTTYPE=image/jpeg:https://rccav.org/wp-content/uploads/2025/12/Gethsemani-0405-5-scaled.jpg
END:VEVENT
BEGIN:VEVENT
DTSTART;TZID=America/Vancouver:20300727T120000
DTEND;TZID=America/Vancouver:20300727T153000
DTSTAMP:20260421T044829
CREATED:20251209T213210Z
LAST-MODIFIED:20260306T194325Z
UID:10001801-1911384000-1911396600@rccav.org
SUMMARY:Bus Service from Vancouver to Gardens
DESCRIPTION:Gardens of Gethsemani Catholic Cemetery and Columbus Homes are sponsoring a bus ride from Vancouver to Gardens of Gethsemani in Surrey. The bus will depart from St. Patrick’s Parish on Main Street at 12 p.m. and will be back at St. Patrick’s around 3:30 p.m. To secure a spot please register for free: \nClick here to register
URL:https://rccav.org/event/bus-service-from-vancouver-to-gardens-2-7-2/2030-07-27/
LOCATION:St. Patrick’s Parish Vancouver parking lot\, 2881 Main St.\, Vancouver\, British Columbia\, V5T 3G1\, Canada
ATTACH;FMTTYPE=image/jpeg:https://rccav.org/wp-content/uploads/2025/12/Gethsemani-0405-5-scaled.jpg
END:VEVENT
BEGIN:VEVENT
DTSTART;TZID=America/Vancouver:20300831T120000
DTEND;TZID=America/Vancouver:20300831T153000
DTSTAMP:20260421T044829
CREATED:20251209T213210Z
LAST-MODIFIED:20260306T194325Z
UID:10001802-1914408000-1914420600@rccav.org
SUMMARY:Bus Service from Vancouver to Gardens
DESCRIPTION:Gardens of Gethsemani Catholic Cemetery and Columbus Homes are sponsoring a bus ride from Vancouver to Gardens of Gethsemani in Surrey. The bus will depart from St. Patrick’s Parish on Main Street at 12 p.m. and will be back at St. Patrick’s around 3:30 p.m. To secure a spot please register for free: \nClick here to register
URL:https://rccav.org/event/bus-service-from-vancouver-to-gardens-2-7-2/2030-08-31/
LOCATION:St. Patrick’s Parish Vancouver parking lot\, 2881 Main St.\, Vancouver\, British Columbia\, V5T 3G1\, Canada
ATTACH;FMTTYPE=image/jpeg:https://rccav.org/wp-content/uploads/2025/12/Gethsemani-0405-5-scaled.jpg
END:VEVENT
BEGIN:VEVENT
DTSTART;TZID=America/Vancouver:20300928T120000
DTEND;TZID=America/Vancouver:20300928T153000
DTSTAMP:20260421T044829
CREATED:20251209T213210Z
LAST-MODIFIED:20260306T194325Z
UID:10001803-1916827200-1916839800@rccav.org
SUMMARY:Bus Service from Vancouver to Gardens
DESCRIPTION:Gardens of Gethsemani Catholic Cemetery and Columbus Homes are sponsoring a bus ride from Vancouver to Gardens of Gethsemani in Surrey. The bus will depart from St. Patrick’s Parish on Main Street at 12 p.m. and will be back at St. Patrick’s around 3:30 p.m. To secure a spot please register for free: \nClick here to register
URL:https://rccav.org/event/bus-service-from-vancouver-to-gardens-2-7-2/2030-09-28/
LOCATION:St. Patrick’s Parish Vancouver parking lot\, 2881 Main St.\, Vancouver\, British Columbia\, V5T 3G1\, Canada
ATTACH;FMTTYPE=image/jpeg:https://rccav.org/wp-content/uploads/2025/12/Gethsemani-0405-5-scaled.jpg
END:VEVENT
BEGIN:VEVENT
DTSTART;TZID=America/Vancouver:20301026T120000
DTEND;TZID=America/Vancouver:20301026T153000
DTSTAMP:20260421T044829
CREATED:20251209T213210Z
LAST-MODIFIED:20260306T194325Z
UID:10001804-1919246400-1919259000@rccav.org
SUMMARY:Bus Service from Vancouver to Gardens
DESCRIPTION:Gardens of Gethsemani Catholic Cemetery and Columbus Homes are sponsoring a bus ride from Vancouver to Gardens of Gethsemani in Surrey. The bus will depart from St. Patrick’s Parish on Main Street at 12 p.m. and will be back at St. Patrick’s around 3:30 p.m. To secure a spot please register for free: \nClick here to register
URL:https://rccav.org/event/bus-service-from-vancouver-to-gardens-2-7-2/2030-10-26/
LOCATION:St. Patrick’s Parish Vancouver parking lot\, 2881 Main St.\, Vancouver\, British Columbia\, V5T 3G1\, Canada
ATTACH;FMTTYPE=image/jpeg:https://rccav.org/wp-content/uploads/2025/12/Gethsemani-0405-5-scaled.jpg
END:VEVENT
BEGIN:VEVENT
DTSTART;TZID=America/Vancouver:20301130T120000
DTEND;TZID=America/Vancouver:20301130T153000
DTSTAMP:20260421T044829
CREATED:20251209T213210Z
LAST-MODIFIED:20260306T194325Z
UID:10001805-1922270400-1922283000@rccav.org
SUMMARY:Bus Service from Vancouver to Gardens
DESCRIPTION:Gardens of Gethsemani Catholic Cemetery and Columbus Homes are sponsoring a bus ride from Vancouver to Gardens of Gethsemani in Surrey. The bus will depart from St. Patrick’s Parish on Main Street at 12 p.m. and will be back at St. Patrick’s around 3:30 p.m. To secure a spot please register for free: \nClick here to register
URL:https://rccav.org/event/bus-service-from-vancouver-to-gardens-2-7-2/2030-11-30/
LOCATION:St. Patrick’s Parish Vancouver parking lot\, 2881 Main St.\, Vancouver\, British Columbia\, V5T 3G1\, Canada
ATTACH;FMTTYPE=image/jpeg:https://rccav.org/wp-content/uploads/2025/12/Gethsemani-0405-5-scaled.jpg
END:VEVENT
BEGIN:VEVENT
DTSTART;TZID=America/Vancouver:20301228T120000
DTEND;TZID=America/Vancouver:20301228T153000
DTSTAMP:20260421T044829
CREATED:20251209T213210Z
LAST-MODIFIED:20260306T194325Z
UID:10001900-1924689600-1924702200@rccav.org
SUMMARY:Bus Service from Vancouver to Gardens
DESCRIPTION:Gardens of Gethsemani Catholic Cemetery and Columbus Homes are sponsoring a bus ride from Vancouver to Gardens of Gethsemani in Surrey. The bus will depart from St. Patrick’s Parish on Main Street at 12 p.m. and will be back at St. Patrick’s around 3:30 p.m. To secure a spot please register for free: \nClick here to register
URL:https://rccav.org/event/bus-service-from-vancouver-to-gardens-2-7-2/2030-12-28/
LOCATION:St. Patrick’s Parish Vancouver parking lot\, 2881 Main St.\, Vancouver\, British Columbia\, V5T 3G1\, Canada
ATTACH;FMTTYPE=image/jpeg:https://rccav.org/wp-content/uploads/2025/12/Gethsemani-0405-5-scaled.jpg
END:VEVENT
BEGIN:VEVENT
DTSTART;TZID=America/Vancouver:20310125T120000
DTEND;TZID=America/Vancouver:20310125T153000
DTSTAMP:20260421T044829
CREATED:20251209T213210Z
LAST-MODIFIED:20260306T194325Z
UID:10001921-1927108800-1927121400@rccav.org
SUMMARY:Bus Service from Vancouver to Gardens
DESCRIPTION:Gardens of Gethsemani Catholic Cemetery and Columbus Homes are sponsoring a bus ride from Vancouver to Gardens of Gethsemani in Surrey. The bus will depart from St. Patrick’s Parish on Main Street at 12 p.m. and will be back at St. Patrick’s around 3:30 p.m. To secure a spot please register for free: \nClick here to register
URL:https://rccav.org/event/bus-service-from-vancouver-to-gardens-2-7-2/2031-01-25/
LOCATION:St. Patrick’s Parish Vancouver parking lot\, 2881 Main St.\, Vancouver\, British Columbia\, V5T 3G1\, Canada
ATTACH;FMTTYPE=image/jpeg:https://rccav.org/wp-content/uploads/2025/12/Gethsemani-0405-5-scaled.jpg
END:VEVENT
BEGIN:VEVENT
DTSTART;TZID=America/Vancouver:20310222T120000
DTEND;TZID=America/Vancouver:20310222T153000
DTSTAMP:20260421T044829
CREATED:20251209T213210Z
LAST-MODIFIED:20260306T194325Z
UID:10001922-1929528000-1929540600@rccav.org
SUMMARY:Bus Service from Vancouver to Gardens
DESCRIPTION:Gardens of Gethsemani Catholic Cemetery and Columbus Homes are sponsoring a bus ride from Vancouver to Gardens of Gethsemani in Surrey. The bus will depart from St. Patrick’s Parish on Main Street at 12 p.m. and will be back at St. Patrick’s around 3:30 p.m. To secure a spot please register for free: \nClick here to register
URL:https://rccav.org/event/bus-service-from-vancouver-to-gardens-2-7-2/2031-02-22/
LOCATION:St. Patrick’s Parish Vancouver parking lot\, 2881 Main St.\, Vancouver\, British Columbia\, V5T 3G1\, Canada
ATTACH;FMTTYPE=image/jpeg:https://rccav.org/wp-content/uploads/2025/12/Gethsemani-0405-5-scaled.jpg
END:VEVENT
END:VCALENDAR